Workbook
Name 所属データ: #REF!

Sheet data1
A1: 1234 | B1: 5 | C1: 67 | D1: 8 | E1: 9 | F1: 10 | G1: 11 | H1: 12 | I1: 13 | J1: 14 | K1: 15 | L1: 16 | M1: 17 | N1: 18 | O1: 19 | P1: 20 | Q1: 21 | R1: 22 | S1: 23 | T1: 24 | U1: 25 | V1: 26 | W1: 27 | X1: 28 | Y1: 29 | Z1: 30 | AA1: 31 | AB1: 32 | AC1: =" " | AF1: 活用するデータ | AG1: データ1 | AH1: データ２ | AI1: データ３
A2: =#REF! -> #REF! | B2: =#REF! -> #REF! | C2: 01 | D2: =IF(#REF!<=9," ",INT(#REF!/10)) -> #REF! | E2: =IF(#REF!=""," ",RIGHT(#REF!,1)) -> #REF! | F2: =IF(#REF!<=9," ",INT(#REF!/10)) -> #REF! | G2: =IF(#REF!=""," ",RIGHT(#REF!,1)) -> #REF! | H2: =IF(#REF!=""," ",#REF!) -> #REF! | I2: =IF(#REF!=""," ",#REF!) -> #REF! | J2: =IF(#REF!=""," ",#REF!) -> #REF! | K2: =IF(#REF!=""," ",#REF!) -> #REF! | L2: =IF(#REF!<=9," ",INT(#REF!/10)) -> #REF! | M2: =IF(#REF!=""," ",RIGHT(#REF!,1)) -> #REF! | N2: =IF(#REF!=""," ",#REF!) -> #REF! | O2: =IF(#REF!<=9," ",INT(#REF!/10)) -> #REF! | P2: =IF(#REF!=""," ",RIGHT(#REF!,1)) -> #REF! | Q2: =IF(#REF!=""," ",#REF!) -> #REF! | R2: =IF(#REF!=""," ",#REF!) -> #REF! | S2: =IF(#REF!=""," ",#REF!) -> #REF! | T2: =IF(#REF!=""," ",#REF!) -> #REF! | U2: =IF(#REF!=""," ",#REF!) -> #REF! | V2: =IF(#REF!=""," ",#REF!) -> #REF! | W2: =IF(#REF!=""," ",#REF!) -> #REF! | X2: =IF(#REF!=""," ",#REF!) -> #REF! | Y2: =IF(#REF!<=9," ",INT(#REF!/10)) -> #REF! | Z2: =IF(#REF!=""," ",RIGHT(#REF!,1)) -> #REF! | AA2: =IF(#REF!<=9," ",INT(#REF!/10)) -> #REF! | AB2: =IF(#REF!=""," ",RIGHT(#REF!,1)) -> #REF! | AC2: =" " | AF2: =AG2&AH2&AI2 -> #REF! | AG2: =A2&B2&C2&D2&E2&F2&G2&H2&I2&J2&K2&L2&M2&N2&O2&P2&Q2&R2&S2&T2&U2&V2&W2&X2&Y2&Z2&AA2&AB2 -> #REF!
A3: =#REF! -> #REF! | B3: =#REF! -> #REF! | C3: 02 | D3: =IF(#REF!<=9," ",INT(#REF!/10)) -> #REF! | E3: =IF(#REF!=""," ",RIGHT(#REF!,1)) -> #REF! | F3: =IF(#REF!<=9," ",INT(#REF!/10)) -> #REF! | G3: =IF(#REF!=""," ",RIGHT(#REF!,1)) -> #REF! | H3: =IF(#REF!=""," ",#REF!) -> #REF! | I3: =IF(#REF!=""," ",#REF!) -> #REF! | J3: =IF(#REF!=""," ",#REF!) -> #REF! | K3: =IF(#REF!=""," ",#REF!) -> #REF! | L3: =IF(#REF!<=9," ",INT(#REF!/10)) -> #REF! | M3: =IF(#REF!=""," ",RIGHT(#REF!,1)) -> #REF! | N3: =IF(#REF!=""," ",#REF!) -> #REF! | O3: =IF(#REF!<=9," ",INT(#REF!/10)) -> #REF! | P3: =IF(#REF!=""," ",RIGHT(#REF!,1)) -> #REF! | Q3: =IF(#REF!=""," ",#REF!) -> #REF! | R3: =IF(#REF!=""," ",#REF!) -> #REF! | S3: =IF(#REF!=""," ",#REF!) -> #REF! | T3: =IF(#REF!=""," ",#REF!) -> #REF! | U3: =IF(#REF!=""," ",#REF!) -> #REF! | V3: =IF(#REF!=""," ",#REF!) -> #REF! | W3: =IF(#REF!=""," ",#REF!) -> #REF! | X3: =IF(#REF!=""," ",#REF!) -> #REF! | Y3: =IF(#REF!<=9," ",INT(#REF!/10)) -> #REF! | Z3: =IF(#REF!=""," ",RIGHT(#REF!,1)) -> #REF! | AA3: =IF(#REF!<=9," ",INT(#REF!/10)) -> #REF! | AB3: =IF(#REF!=""," ",RIGHT(#REF!,1)) -> #REF! | AC3: =" " | AF3: =AG3&AH3&AI3 -> #REF! | AG3: =A3&B3&C3&D3&E3&F3&G3&H3&I3&J3&K3&L3&M3&N3&O3&P3&Q3&R3&S3&T3&U3&V3&W3&X3&Y3&Z3&AA3&AB3 -> #REF!
A4: =#REF! -> #REF! | B4: =#REF! -> #REF! | C4: 03 | D4: =IF(#REF!<=9," ",INT(#REF!/10)) -> #REF! | E4: =IF(#REF!=""," ",RIGHT(#REF!,1)) -> #REF! | F4: =IF(#REF!<=9," ",INT(#REF!/10)) -> #REF! | G4: =IF(#REF!=""," ",RIGHT(#REF!,1)) -> #REF! | H4: =IF(#REF!=""," ",#REF!) -> #REF! | I4: =IF(#REF!=""," ",#REF!) -> #REF! | J4: =IF(#REF!=""," ",#REF!) -> #REF! | K4: =IF(#REF!=""," ",#REF!) -> #REF! | L4: =IF(#REF!<=9," ",INT(#REF!/10)) -> #REF! | M4: =IF(#REF!=""," ",RIGHT(#REF!,1)) -> #REF! | N4: =IF(#REF!=""," ",#REF!) -> #REF! | O4: =IF(#REF!<=9," ",INT(#REF!/10)) -> #REF! | P4: =IF(#REF!=""," ",RIGHT(#REF!,1)) -> #REF! | Q4: =IF(#REF!=""," ",#REF!) -> #REF! | R4: =IF(#REF!=""," ",#REF!) -> #REF! | S4: =IF(#REF!=""," ",#REF!) -> #REF! | T4: =IF(#REF!=""," ",#REF!) -> #REF! | U4: =IF(#REF!=""," ",#REF!) -> #REF! | V4: =IF(#REF!=""," ",#REF!) -> #REF! | W4: =IF(#REF!=""," ",#REF!) -> #REF! | X4: =IF(#REF!=""," ",#REF!) -> #REF! | Y4: =IF(#REF!<=9," ",INT(#REF!/10)) -> #REF! | Z4: =IF(#REF!=""," ",RIGHT(#REF!,1)) -> #REF! | AA4: =IF(#REF!<=9," ",INT(#REF!/10)) -> #REF! | AB4: =IF(#REF!=""," ",RIGHT(#REF!,1)) -> #REF! | AC4: =" " | AF4: =AG4&AH4&AI4 -> #REF! | AG4: =A4&B4&C4&D4&E4&F4&G4&H4&I4&J4&K4&L4&M4&N4&O4&P4&Q4&R4&S4&T4&U4&V4&W4&X4&Y4&Z4&AA4&AB4 -> #REF!
A5: =#REF! -> #REF! | B5: =#REF! -> #REF! | C5: 04 | D5: =IF(#REF!<=9," ",INT(#REF!/10)) -> #REF! | E5: =IF(#REF!=""," ",RIGHT(#REF!,1)) -> #REF! | F5: =IF(#REF!<=9," ",INT(#REF!/10)) -> #REF! | G5: =IF(#REF!=""," ",RIGHT(#REF!,1)) -> #REF! | H5: =IF(#REF!=""," ",#REF!) -> #REF! | I5: =IF(#REF!=""," ",#REF!) -> #REF! | J5: =IF(#REF!=""," ",#REF!) -> #REF! | K5: =IF(#REF!=""," ",#REF!) -> #REF! | L5: =IF(#REF!<=9," ",INT(#REF!/10)) -> #REF! | M5: =IF(#REF!=""," ",RIGHT(#REF!,1)) -> #REF! | N5: =IF(#REF!=""," ",#REF!) -> #REF! | O5: =IF(#REF!<=9," ",INT(#REF!/10)) -> #REF! | P5: =IF(#REF!=""," ",RIGHT(#REF!,1)) -> #REF! | Q5: =IF(#REF!=""," ",#REF!) -> #REF! | R5: =IF(#REF!=""," ",#REF!) -> #REF! | S5: =IF(#REF!=""," ",#REF!) -> #REF! | T5: =IF(#REF!=""," ",#REF!) -> #REF! | U5: =IF(#REF!=""," ",#REF!) -> #REF! | V5: =IF(#REF!=""," ",#REF!) -> #REF! | W5: =IF(#REF!=""," ",#REF!) -> #REF! | X5: =IF(#REF!=""," ",#REF!) -> #REF! | Y5: =IF(#REF!<=9," ",INT(#REF!/10)) -> #REF! | Z5: =IF(#REF!=""," ",RIGHT(#REF!,1)) -> #REF! | AA5: =IF(#REF!<=9," ",INT(#REF!/10)) -> #REF! | AB5: =IF(#REF!=""," ",RIGHT(#REF!,1)) -> #REF! | AC5: =" " | AF5: =AG5&AH5&AI5 -> #REF! | AG5: =A5&B5&C5&D5&E5&F5&G5&H5&I5&J5&K5&L5&M5&N5&O5&P5&Q5&R5&S5&T5&U5&V5&W5&X5&Y5&Z5&AA5&AB5 -> #REF!
A6: =#REF! -> #REF! | B6: =#REF! -> #REF! | C6: 05 | D6: =IF(#REF!<=9," ",INT(#REF!/10)) -> #REF! | E6: =IF(#REF!=""," ",RIGHT(#REF!,1)) -> #REF! | F6: =IF(#REF!<=9," ",INT(#REF!/10)) -> #REF! | G6: =IF(#REF!=""," ",RIGHT(#REF!,1)) -> #REF! | H6: =IF(#REF!=""," ",#REF!) -> #REF! | I6: =IF(#REF!=""," ",#REF!) -> #REF! | J6: =IF(#REF!=""," ",#REF!) -> #REF! | K6: =IF(#REF!=""," ",#REF!) -> #REF! | L6: =IF(#REF!<=9," ",INT(#REF!/10)) -> #REF! | M6: =IF(#REF!=""," ",RIGHT(#REF!,1)) -> #REF! | N6: =IF(#REF!=""," ",#REF!) -> #REF! | O6: =IF(#REF!<=9," ",INT(#REF!/10)) -> #REF! | P6: =IF(#REF!=""," ",RIGHT(#REF!,1)) -> #REF! | Q6: =IF(#REF!=""," ",#REF!) -> #REF! | R6: =IF(#REF!=""," ",#REF!) -> #REF! | S6: =IF(#REF!=""," ",#REF!) -> #REF! | T6: =IF(#REF!=""," ",#REF!) -> #REF! | U6: =IF(#REF!=""," ",#REF!) -> #REF! | V6: =IF(#REF!=""," ",#REF!) -> #REF! | W6: =IF(#REF!=""," ",#REF!) -> #REF! | X6: =IF(#REF!=""," ",#REF!) -> #REF! | Y6: =IF(#REF!<=9," ",INT(#REF!/10)) -> #REF! | Z6: =IF(#REF!=""," ",RIGHT(#REF!,1)) -> #REF! | AA6: =IF(#REF!<=9," ",INT(#REF!/10)) -> #REF! | AB6: =IF(#REF!=""," ",RIGHT(#REF!,1)) -> #REF! | AC6: =" " | AF6: =AG6&AH6&AI6 -> #REF! | AG6: =A6&B6&C6&D6&E6&F6&G6&H6&I6&J6&K6&L6&M6&N6&O6&P6&Q6&R6&S6&T6&U6&V6&W6&X6&Y6&Z6&AA6&AB6 -> #REF!
A7: =#REF! -> #REF! | B7: =#REF! -> #REF! | C7: 06 | D7: =IF(#REF!<=9," ",INT(#REF!/10)) -> #REF! | E7: =IF(#REF!=""," ",RIGHT(#REF!,1)) -> #REF! | F7: =IF(#REF!<=9," ",INT(#REF!/10)) -> #REF! | G7: =IF(#REF!=""," ",RIGHT(#REF!,1)) -> #REF! | H7: =IF(#REF!=""," ",#REF!) -> #REF! | I7: =IF(#REF!=""," ",#REF!) -> #REF! | J7: =IF(#REF!=""," ",#REF!) -> #REF! | K7: =IF(#REF!=""," ",#REF!) -> #REF! | L7: =IF(#REF!<=9," ",INT(#REF!/10)) -> #REF! | M7: =IF(#REF!=""," ",RIGHT(#REF!,1)) -> #REF! | N7: =IF(#REF!=""," ",#REF!) -> #REF! | O7: =IF(#REF!<=9," ",INT(#REF!/10)) -> #REF! | P7: =IF(#REF!=""," ",RIGHT(#REF!,1)) -> #REF! | Q7: =IF(#REF!=""," ",#REF!) -> #REF! | R7: =IF(#REF!=""," ",#REF!) -> #REF! | S7: =IF(#REF!=""," ",#REF!) -> #REF! | T7: =IF(#REF!=""," ",#REF!) -> #REF! | U7: =IF(#REF!=""," ",#REF!) -> #REF! | V7: =IF(#REF!=""," ",#REF!) -> #REF! | W7: =IF(#REF!=""," ",#REF!) -> #REF! | X7: =IF(#REF!=""," ",#REF!) -> #REF! | Y7: =IF(#REF!<=9," ",INT(#REF!/10)) -> #REF! | Z7: =IF(#REF!=""," ",RIGHT(#REF!,1)) -> #REF! | AA7: =IF(#REF!<=9," ",INT(#REF!/10)) -> #REF! | AB7: =IF(#REF!=""," ",RIGHT(#REF!,1)) -> #REF! | AC7: =" " | AF7: =AG7&AH7&AI7 -> #REF! | AG7: =A7&B7&C7&D7&E7&F7&G7&H7&I7&J7&K7&L7&M7&N7&O7&P7&Q7&R7&S7&T7&U7&V7&W7&X7&Y7&Z7&AA7&AB7 -> #REF!
A8: =#REF! -> #REF! | B8: =#REF! -> #REF! | C8: 07 | D8: =IF(#REF!<=9," ",INT(#REF!/10)) -> #REF! | E8: =IF(#REF!=""," ",RIGHT(#REF!,1)) -> #REF! | F8: =IF(#REF!<=9," ",INT(#REF!/10)) -> #REF! | G8: =IF(#REF!=""," ",RIGHT(#REF!,1)) -> #REF! | H8: =IF(#REF!=""," ",#REF!) -> #REF! | I8: =IF(#REF!=""," ",#REF!) -> #REF! | J8: =IF(#REF!=""," ",#REF!) -> #REF! | K8: =IF(#REF!=""," ",#REF!) -> #REF! | L8: =IF(#REF!<=9," ",INT(#REF!/10)) -> #REF! | M8: =IF(#REF!=""," ",RIGHT(#REF!,1)) -> #REF! | N8: =IF(#REF!=""," ",#REF!) -> #REF! | O8: =IF(#REF!<=9," ",INT(#REF!/10)) -> #REF! | P8: =IF(#REF!=""," ",RIGHT(#REF!,1)) -> #REF! | Q8: =IF(#REF!=""," ",#REF!) -> #REF! | R8: =IF(#REF!=""," ",#REF!) -> #REF! | S8: =IF(#REF!=""," ",#REF!) -> #REF! | T8: =IF(#REF!=""," ",#REF!) -> #REF! | U8: =IF(#REF!=""," ",#REF!) -> #REF! | V8: =IF(#REF!=""," ",#REF!) -> #REF! | W8: =IF(#REF!=""," ",#REF!) -> #REF! | X8: =IF(#REF!=""," ",#REF!) -> #REF! | Y8: =IF(#REF!<=9," ",INT(#REF!/10)) -> #REF! | Z8: =IF(#REF!=""," ",RIGHT(#REF!,1)) -> #REF! | AA8: =IF(#REF!<=9," ",INT(#REF!/10)) -> #REF! | AB8: =IF(#REF!=""," ",RIGHT(#REF!,1)) -> #REF! | AC8: =" " | AF8: =AG8&AH8&AI8 -> #REF! | AG8: =A8&B8&C8&D8&E8&F8&G8&H8&I8&J8&K8&L8&M8&N8&O8&P8&Q8&R8&S8&T8&U8&V8&W8&X8&Y8&Z8&AA8&AB8 -> #REF!
A9: =#REF! -> #REF! | B9: =#REF! -> #REF! | C9: 08 | D9: =IF(#REF!<=9," ",INT(#REF!/10)) -> #REF! | E9: =IF(#REF!=""," ",RIGHT(#REF!,1)) -> #REF! | F9: =IF(#REF!<=9," ",INT(#REF!/10)) -> #REF! | G9: =IF(#REF!=""," ",RIGHT(#REF!,1)) -> #REF! | H9: =IF(#REF!=""," ",#REF!) -> #REF! | I9: =IF(#REF!=""," ",#REF!) -> #REF! | J9: =IF(#REF!=""," ",#REF!) -> #REF! | K9: =IF(#REF!=""," ",#REF!) -> #REF! | L9: =IF(#REF!<=9," ",INT(#REF!/10)) -> #REF! | M9: =IF(#REF!=""," ",RIGHT(#REF!,1)) -> #REF! | N9: =IF(#REF!=""," ",#REF!) -> #REF! | O9: =IF(#REF!<=9," ",INT(#REF!/10)) -> #REF! | P9: =IF(#REF!=""," ",RIGHT(#REF!,1)) -> #REF! | Q9: =IF(#REF!=""," ",#REF!) -> #REF! | R9: =IF(#REF!=""," ",#REF!) -> #REF! | S9: =IF(#REF!=""," ",#REF!) -> #REF! | T9: =IF(#REF!=""," ",#REF!) -> #REF! | U9: =IF(#REF!=""," ",#REF!) -> #REF! | V9: =IF(#REF!=""," ",#REF!) -> #REF! | W9: =IF(#REF!=""," ",#REF!) -> #REF! | X9: =IF(#REF!=""," ",#REF!) -> #REF! | Y9: =IF(#REF!<=9," ",INT(#REF!/10)) -> #REF! | Z9: =IF(#REF!=""," ",RIGHT(#REF!,1)) -> #REF! | AA9: =IF(#REF!<=9," ",INT(#REF!/10)) -> #REF! | AB9: =IF(#REF!=""," ",RIGHT(#REF!,1)) -> #REF! | AC9: =" " | AF9: =AG9&AH9&AI9 -> #REF! | AG9: =A9&B9&C9&D9&E9&F9&G9&H9&I9&J9&K9&L9&M9&N9&O9&P9&Q9&R9&S9&T9&U9&V9&W9&X9&Y9&Z9&AA9&AB9 -> #REF!
A10: =#REF! -> #REF! | B10: =#REF! -> #REF! | C10: 09 | D10: =IF(#REF!<=9," ",INT(#REF!/10)) -> #REF! | E10: =IF(#REF!=""," ",RIGHT(#REF!,1)) -> #REF! | F10: =IF(#REF!<=9," ",INT(#REF!/10)) -> #REF! | G10: =IF(#REF!=""," ",RIGHT(#REF!,1)) -> #REF! | H10: =IF(#REF!=""," ",#REF!) -> #REF! | I10: =IF(#REF!=""," ",#REF!) -> #REF! | J10: =IF(#REF!=""," ",#REF!) -> #REF! | K10: =IF(#REF!=""," ",#REF!) -> #REF! | L10: =IF(#REF!<=9," ",INT(#REF!/10)) -> #REF! | M10: =IF(#REF!=""," ",RIGHT(#REF!,1)) -> #REF! | N10: =IF(#REF!=""," ",#REF!) -> #REF! | O10: =IF(#REF!<=9," ",INT(#REF!/10)) -> #REF! | P10: =IF(#REF!=""," ",RIGHT(#REF!,1)) -> #REF! | Q10: =IF(#REF!=""," ",#REF!) -> #REF! | R10: =IF(#REF!=""," ",#REF!) -> #REF! | S10: =IF(#REF!=""," ",#REF!) -> #REF! | T10: =IF(#REF!=""," ",#REF!) -> #REF! | U10: =IF(#REF!=""," ",#REF!) -> #REF! | V10: =IF(#REF!=""," ",#REF!) -> #REF! | W10: =IF(#REF!=""," ",#REF!) -> #REF! | X10: =IF(#REF!=""," ",#REF!) -> #REF! | Y10: =IF(#REF!<=9," ",INT(#REF!/10)) -> #REF! | Z10: =IF(#REF!=""," ",RIGHT(#REF!,1)) -> #REF! | AA10: =IF(#REF!<=9," ",INT(#REF!/10)) -> #REF! | AB10: =IF(#REF!=""," ",RIGHT(#REF!,1)) -> #REF! | AC10: =" " | AF10: =AG10&AH10&AI10 -> #REF! | AG10: =A10&B10&C10&D10&E10&F10&G10&H10&I10&J10&K10&L10&M10&N10&O10&P10&Q10&R10&S10&T10&U10&V10&W10&X10&Y10&Z10&AA10&AB10 -> #REF!
A11: =#REF! -> #REF! | B11: =#REF! -> #REF! | C11: 10 | D11: =IF(#REF!<=9," ",INT(#REF!/10)) -> #REF! | E11: =IF(#REF!=""," ",RIGHT(#REF!,1)) -> #REF! | F11: =IF(#REF!<=9," ",INT(#REF!/10)) -> #REF! | G11: =IF(#REF!=""," ",RIGHT(#REF!,1)) -> #REF! | H11: =IF(#REF!=""," ",#REF!) -> #REF! | I11: =IF(#REF!=""," ",#REF!) -> #REF! | J11: =IF(#REF!=""," ",#REF!) -> #REF! | K11: =IF(#REF!=""," ",#REF!) -> #REF! | L11: =IF(#REF!<=9," ",INT(#REF!/10)) -> #REF! | M11: =IF(#REF!=""," ",RIGHT(#REF!,1)) -> #REF! | N11: =IF(#REF!=""," ",#REF!) -> #REF! | O11: =IF(#REF!<=9," ",INT(#REF!/10)) -> #REF! | P11: =IF(#REF!=""," ",RIGHT(#REF!,1)) -> #REF! | Q11: =IF(#REF!=""," ",#REF!) -> #REF! | R11: =IF(#REF!=""," ",#REF!) -> #REF! | S11: =IF(#REF!=""," ",#REF!) -> #REF! | T11: =IF(#REF!=""," ",#REF!) -> #REF! | U11: =IF(#REF!=""," ",#REF!) -> #REF! | V11: =IF(#REF!=""," ",#REF!) -> #REF! | W11: =IF(#REF!=""," ",#REF!) -> #REF! | X11: =IF(#REF!=""," ",#REF!) -> #REF! | Y11: =IF(#REF!<=9," ",INT(#REF!/10)) -> #REF! | Z11: =IF(#REF!=""," ",RIGHT(#REF!,1)) -> #REF! | AA11: =IF(#REF!<=9," ",INT(#REF!/10)) -> #REF! | AB11: =IF(#REF!=""," ",RIGHT(#REF!,1)) -> #REF! | AC11: =" " | AF11: =AG11&AH11&AI11 -> #REF! | AG11: =A11&B11&C11&D11&E11&F11&G11&H11&I11&J11&K11&L11&M11&N11&O11&P11&Q11&R11&S11&T11&U11&V11&W11&X11&Y11&Z11&AA11&AB11 -> #REF!
A12: =#REF! -> #REF! | B12: =#REF! -> #REF! | C12: 11 | D12: =IF(#REF!<=9," ",INT(#REF!/10)) -> #REF! | E12: =IF(#REF!=""," ",RIGHT(#REF!,1)) -> #REF! | F12: =IF(#REF!<=9," ",INT(#REF!/10)) -> #REF! | G12: =IF(#REF!=""," ",RIGHT(#REF!,1)) -> #REF! | H12: =IF(#REF!=""," ",#REF!) -> #REF! | I12: =IF(#REF!=""," ",#REF!) -> #REF! | J12: =IF(#REF!=""," ",#REF!) -> #REF! | K12: =IF(#REF!=""," ",#REF!) -> #REF! | L12: =IF(#REF!<=9," ",INT(#REF!/10)) -> #REF! | M12: =IF(#REF!=""," ",RIGHT(#REF!,1)) -> #REF! | N12: =IF(#REF!=""," ",#REF!) -> #REF! | O12: =IF(#REF!<=9," ",INT(#REF!/10)) -> #REF! | P12: =IF(#REF!=""," ",RIGHT(#REF!,1)) -> #REF! | Q12: =IF(#REF!=""," ",#REF!) -> #REF! | R12: =IF(#REF!=""," ",#REF!) -> #REF! | S12: =IF(#REF!=""," ",#REF!) -> #REF! | T12: =IF(#REF!=""," ",#REF!) -> #REF! | U12: =IF(#REF!=""," ",#REF!) -> #REF! | V12: =IF(#REF!=""," ",#REF!) -> #REF! | W12: =IF(#REF!=""," ",#REF!) -> #REF! | X12: =IF(#REF!=""," ",#REF!) -> #REF! | Y12: =IF(#REF!<=9," ",INT(#REF!/10)) -> #REF! | Z12: =IF(#REF!=""," ",RIGHT(#REF!,1)) -> #REF! | AA12: =IF(#REF!<=9," ",INT(#REF!/10)) -> #REF! | AB12: =IF(#REF!=""," ",RIGHT(#REF!,1)) -> #REF! | AC12: =" " | AF12: =AG12&AH12&AI12 -> #REF! | AG12: =A12&B12&C12&D12&E12&F12&G12&H12&I12&J12&K12&L12&M12&N12&O12&P12&Q12&R12&S12&T12&U12&V12&W12&X12&Y12&Z12&AA12&AB12 -> #REF!
A13: =#REF! -> #REF! | B13: =#REF! -> #REF! | C13: 12 | D13: =IF(#REF!<=9," ",INT(#REF!/10)) -> #REF! | E13: =IF(#REF!=""," ",RIGHT(#REF!,1)) -> #REF! | F13: =IF(#REF!<=9," ",INT(#REF!/10)) -> #REF! | G13: =IF(#REF!=""," ",RIGHT(#REF!,1)) -> #REF! | H13: =IF(#REF!=""," ",#REF!) -> #REF! | I13: =IF(#REF!=""," ",#REF!) -> #REF! | J13: =IF(#REF!=""," ",#REF!) -> #REF! | K13: =IF(#REF!=""," ",#REF!) -> #REF! | L13: =IF(#REF!<=9," ",INT(#REF!/10)) -> #REF! | M13: =IF(#REF!=""," ",RIGHT(#REF!,1)) -> #REF! | N13: =IF(#REF!=""," ",#REF!) -> #REF! | O13: =IF(#REF!<=9," ",INT(#REF!/10)) -> #REF! | P13: =IF(#REF!=""," ",RIGHT(#REF!,1)) -> #REF! | Q13: =IF(#REF!=""," ",#REF!) -> #REF! | R13: =IF(#REF!=""," ",#REF!) -> #REF! | S13: =IF(#REF!=""," ",#REF!) -> #REF! | T13: =IF(#REF!=""," ",#REF!) -> #REF! | U13: =IF(#REF!=""," ",#REF!) -> #REF! | V13: =IF(#REF!=""," ",#REF!) -> #REF! | W13: =IF(#REF!=""," ",#REF!) -> #REF! | X13: =IF(#REF!=""," ",#REF!) -> #REF! | Y13: =IF(#REF!<=9," ",INT(#REF!/10)) -> #REF! | Z13: =IF(#REF!=""," ",RIGHT(#REF!,1)) -> #REF! | AA13: =IF(#REF!<=9," ",INT(#REF!/10)) -> #REF! | AB13: =IF(#REF!=""," ",RIGHT(#REF!,1)) -> #REF! | AC13: =" " | AF13: =AG13&AH13&AI13 -> #REF! | AG13: =A13&B13&C13&D13&E13&F13&G13&H13&I13&J13&K13&L13&M13&N13&O13&P13&Q13&R13&S13&T13&U13&V13&W13&X13&Y13&Z13&AA13&AB13 -> #REF!
A14: =#REF! -> #REF! | B14: =#REF! -> #REF! | C14: 13 | D14: =IF(#REF!<=9," ",INT(#REF!/10)) -> #REF! | E14: =IF(#REF!=""," ",RIGHT(#REF!,1)) -> #REF! | F14: =IF(#REF!<=9," ",INT(#REF!/10)) -> #REF! | G14: =IF(#REF!=""," ",RIGHT(#REF!,1)) -> #REF! | H14: =IF(#REF!=""," ",#REF!) -> #REF! | I14: =IF(#REF!=""," ",#REF!) -> #REF! | J14: =IF(#REF!=""," ",#REF!) -> #REF! | K14: =IF(#REF!=""," ",#REF!) -> #REF! | L14: =IF(#REF!<=9," ",INT(#REF!/10)) -> #REF! | M14: =IF(#REF!=""," ",RIGHT(#REF!,1)) -> #REF! | N14: =IF(#REF!=""," ",#REF!) -> #REF! | O14: =IF(#REF!<=9," ",INT(#REF!/10)) -> #REF! | P14: =IF(#REF!=""," ",RIGHT(#REF!,1)) -> #REF! | Q14: =IF(#REF!=""," ",#REF!) -> #REF! | R14: =IF(#REF!=""," ",#REF!) -> #REF! | S14: =IF(#REF!=""," ",#REF!) -> #REF! | T14: =IF(#REF!=""," ",#REF!) -> #REF! | U14: =IF(#REF!=""," ",#REF!) -> #REF! | V14: =IF(#REF!=""," ",#REF!) -> #REF! | W14: =IF(#REF!=""," ",#REF!) -> #REF! | X14: =IF(#REF!=""," ",#REF!) -> #REF! | Y14: =IF(#REF!<=9," ",INT(#REF!/10)) -> #REF! | Z14: =IF(#REF!=""," ",RIGHT(#REF!,1)) -> #REF! | AA14: =IF(#REF!<=9," ",INT(#REF!/10)) -> #REF! | AB14: =IF(#REF!=""," ",RIGHT(#REF!,1)) -> #REF! | AC14: =" " | AF14: =AG14&AH14&AI14 -> #REF! | AG14: =A14&B14&C14&D14&E14&F14&G14&H14&I14&J14&K14&L14&M14&N14&O14&P14&Q14&R14&S14&T14&U14&V14&W14&X14&Y14&Z14&AA14&AB14 -> #REF!
A15: =#REF! -> #REF! | B15: =#REF! -> #REF! | C15: 14 | D15: =IF(#REF!<=9," ",INT(#REF!/10)) -> #REF! | E15: =IF(#REF!=""," ",RIGHT(#REF!,1)) -> #REF! | F15: =IF(#REF!<=9," ",INT(#REF!/10)) -> #REF! | G15: =IF(#REF!=0," ",RIGHT(#REF!,1)) -> #REF! | H15: =IF(#REF!=0," ",#REF!) -> #REF! | I15: =IF(#REF!=0," ",#REF!) -> #REF! | J15: =IF(#REF!=0," ",#REF!) -> #REF! | K15: =IF(#REF!=0," ",#REF!) -> #REF! | L15: =IF(#REF!<=9," ",INT(#REF!/10)) -> #REF! | M15: =IF(#REF!=0," ",RIGHT(#REF!,1)) -> #REF! | N15: =IF(#REF!=0," ",#REF!) -> #REF! | O15: =IF(#REF!<=9," ",INT(#REF!/10)) -> #REF! | P15: =IF(#REF!=0," ",RIGHT(#REF!,1)) -> #REF! | Q15: =IF(#REF!=0," ",#REF!) -> #REF! | R15: =IF(#REF!=0," ",#REF!) -> #REF! | S15: =IF(#REF!=0," ",#REF!) -> #REF! | T15: =IF(#REF!=0," ",#REF!) -> #REF! | U15: =IF(#REF!=0," ",#REF!) -> #REF! | V15: =IF(#REF!=0," ",#REF!) -> #REF! | W15: =IF(#REF!=0," ",#REF!) -> #REF! | X15: =IF(#REF!=0," ",#REF!) -> #REF! | Y15: =IF(#REF!<=9," ",INT(#REF!/10)) -> #REF! | Z15: =IF(#REF!=0," ",RIGHT(#REF!,1)) -> #REF! | AA15: =IF(#REF!<=9," ",INT(#REF!/10)) -> #REF! | AB15: =IF(#REF!=0," ",RIGHT(#REF!,1)) -> #REF! | AC15: =" " | AF15: =AG15&AH15&AI15 -> #REF! | AG15: =A15&B15&C15&D15&E15&F15&G15&H15&I15&J15&K15&L15&M15&N15&O15&P15&Q15&R15&S15&T15&U15&V15&W15&X15&Y15&Z15&AA15&AB15 -> #REF!
A16: =#REF! -> #REF! | B16: =#REF! -> #REF! | C16: 15 | D16: =IF(#REF!<=9," ",INT(#REF!/10)) -> #REF! | E16: =IF(#REF!=""," ",RIGHT(#REF!,1)) -> #REF! | F16: =IF(#REF!<=9," ",INT(#REF!/10)) -> #REF! | G16: =IF(#REF!=""," ",RIGHT(#REF!,1)) -> #REF! | H16: =IF(#REF!=""," ",#REF!) -> #REF! | I16: =IF(#REF!=""," ",#REF!) -> #REF! | J16: =IF(#REF!=""," ",#REF!) -> #REF! | K16: =IF(#REF!=""," ",#REF!) -> #REF! | L16: =IF(#REF!<=9," ",INT(#REF!/10)) -> #REF! | M16: =IF(#REF!=""," ",RIGHT(#REF!,1)) -> #REF! | N16: =IF(#REF!=""," ",#REF!) -> #REF! | O16: =IF(#REF!<=9," ",INT(#REF!/10)) -> #REF! | P16: =IF(#REF!=""," ",RIGHT(#REF!,1)) -> #REF! | Q16: =IF(#REF!=""," ",#REF!) -> #REF! | R16: =IF(#REF!=""," ",#REF!) -> #REF! | S16: =IF(#REF!=""," ",#REF!) -> #REF! | T16: =IF(#REF!=""," ",#REF!) -> #REF! | U16: =IF(#REF!=""," ",#REF!) -> #REF! | V16: =IF(#REF!=""," ",#REF!) -> #REF! | W16: =IF(#REF!=""," ",#REF!) -> #REF! | X16: =IF(#REF!=""," ",#REF!) -> #REF! | Y16: =IF(#REF!<=9," ",INT(#REF!/10)) -> #REF! | Z16: =IF(#REF!=""," ",RIGHT(#REF!,1)) -> #REF! | AA16: =IF(#REF!<=9," ",INT(#REF!/10)) -> #REF! | AB16: =IF(#REF!=""," ",RIGHT(#REF!,1)) -> #REF! | AC16: =" " | AF16: =AG16&AH16&AI16 -> #REF! | AG16: =A16&B16&C16&D16&E16&F16&G16&H16&I16&J16&K16&L16&M16&N16&O16&P16&Q16&R16&S16&T16&U16&V16&W16&X16&Y16&Z16&AA16&AB16 -> #REF!
A17: =#REF! -> #REF! | B17: =#REF! -> #REF! | C17: 16 | D17: =IF(#REF!<=9," ",INT(#REF!/10)) -> #REF! | E17: =IF(#REF!=""," ",RIGHT(#REF!,1)) -> #REF! | F17: =IF(#REF!<=9," ",INT(#REF!/10)) -> #REF! | G17: =IF(#REF!=""," ",RIGHT(#REF!,1)) -> #REF! | H17: =" " | I17: =" " | J17: =" " | K17: =" " | L17: =IF(#REF!<=9," ",INT(#REF!/10)) -> #REF! | M17: =IF(#REF!=""," ",RIGHT(#REF!,1)) -> #REF! | N17: =" " | O17: =" " | P17: =IF(#REF!<=9," ",INT(#REF!/10)) -> #REF! | Q17: =IF(#REF!=""," ",RIGHT(#REF!,1)) -> #REF! | R17: =" " | S17: =" " | T17: =" " | U17: =" " | V17: =" " | W17: =" " | X17: =" " | Y17: =" " | ... AC17: =" " | AF17: =AG17&AH17&AI17 -> #REF! | AG17: =A17&B17&C17&D17&E17&F17&G17&H17&I17&J17&K17&L17&M17&N17&O17&P17&Q17&R17&S17&T17&U17&V17&W17&X17&Y17&Z17&AA17&AB17 -> #REF!
A18: =#REF! -> #REF! | B18: =#REF! -> #REF! | C18: 17 | D18: =IF(#REF!<=9," ",INT(#REF!/10)) -> #REF! | E18: =IF(#REF!=""," ",RIGHT(#REF!,1)) -> #REF! | F18: =IF(#REF!<=9," ",INT(#REF!/10)) -> #REF! | G18: =IF(#REF!=""," ",RIGHT(#REF!,1)) -> #REF! | H18: =IF(#REF!=""," ",#REF!) -> #REF! | I18: =IF(#REF!=""," ",#REF!) -> #REF! | J18: =IF(#REF!=""," ",#REF!) -> #REF! | K18: =IF(#REF!=""," ",#REF!) -> #REF! | L18: =IF(#REF!<=9," ",INT(#REF!/10)) -> #REF! | M18: =IF(#REF!=""," ",RIGHT(#REF!,1)) -> #REF! | N18: =IF(#REF!=""," ",#REF!) -> #REF! | O18: =IF(#REF!<=9," ",INT(#REF!/10)) -> #REF! | P18: =IF(#REF!=""," ",RIGHT(#REF!,1)) -> #REF! | Q18: =IF(#REF!=""," ",#REF!) -> #REF! | R18: =IF(#REF!=""," ",#REF!) -> #REF! | S18: =IF(#REF!=""," ",#REF!) -> #REF! | T18: =IF(#REF!=""," ",#REF!) -> #REF! | U18: =IF(#REF!=""," ",#REF!) -> #REF! | V18: =IF(#REF!=""," ",#REF!) -> #REF! | W18: =IF(#REF!=""," ",#REF!) -> #REF! | X18: =IF(#REF!=""," ",#REF!) -> #REF! | Y18: =" " | Z18: =" " | AA18: =" " | AB18: =" " | AC18: =" " | AF18: =AG18&AH18&AI18 -> #REF! | AG18: =A18&B18&C18&D18&E18&F18&G18&H18&I18&J18&K18&L18&M18&N18&O18&P18&Q18&R18&S18&T18&U18&V18&W18&X18&Y18&Z18&AA18&AB18 -> #REF!
A19: =#REF! -> #REF! | B19: =#REF! -> #REF! | C19: 18 | D19: =IF(#REF!<=9," ",INT(#REF!/10)) -> #REF! | E19: =IF(#REF!=""," ",RIGHT(#REF!,1)) -> #REF! | F19: =IF(#REF!<=9," ",INT(#REF!/10)) -> #REF! | G19: =IF(#REF!=""," ",RIGHT(#REF!,1)) -> #REF! | H19: =IF(#REF!=""," ",#REF!) -> #REF! | I19: =IF(#REF!=""," ",#REF!) -> #REF! | J19: =IF(#REF!=""," ",#REF!) -> #REF! | K19: =IF(#REF!=""," ",#REF!) -> #REF! | L19: =IF(#REF!<=9," ",INT(#REF!/10)) -> #REF! | M19: =IF(#REF!=""," ",RIGHT(#REF!,1)) -> #REF! | N19: =IF(#REF!=""," ",#REF!) -> #REF! | O19: =IF(#REF!<=9," ",INT(#REF!/10)) -> #REF! | P19: =IF(#REF!=""," ",RIGHT(#REF!,1)) -> #REF! | Q19: =IF(#REF!=""," ",#REF!) -> #REF! | R19: =IF(#REF!=""," ",#REF!) -> #REF! | S19: =IF(#REF!=""," ",#REF!) -> #REF! | T19: =IF(#REF!=""," ",#REF!) -> #REF! | U19: =IF(#REF!=""," ",#REF!) -> #REF! | V19: =IF(#REF!=""," ",#REF!) -> #REF! | W19: =IF(#REF!=""," ",#REF!) -> #REF! | X19: =IF(#REF!=""," ",#REF!) -> #REF! | Y19: =" " | Z19: =" " | AA19: =" " | AB19: =" " | AC19: =" " | AF19: =AG19&AH19&AI19 -> #REF! | AG19: =A19&B19&C19&D19&E19&F19&G19&H19&I19&J19&K19&L19&M19&N19&O19&P19&Q19&R19&S19&T19&U19&V19&W19&X19&Y19&Z19&AA19&AB19 -> #REF!
A20: =#REF! -> #REF! | B20: =#REF! -> #REF! | C20: 19 | D20: =IF(#REF!<=9," ",INT(#REF!/10)) -> #REF! | E20: =IF(#REF!=""," ",RIGHT(#REF!,1)) -> #REF! | F20: =IF(#REF!<=9," ",INT(#REF!/10)) -> #REF! | G20: =IF(#REF!=""," ",RIGHT(#REF!,1)) -> #REF! | H20: =IF(#REF!=""," ",#REF!) -> #REF! | I20: =IF(#REF!=""," ",#REF!) -> #REF! | J20: =IF(#REF!=""," ",#REF!) -> #REF! | K20: =IF(#REF!=""," ",#REF!) -> #REF! | L20: =IF(#REF!<=9," ",INT(#REF!/10)) -> #REF! | M20: =IF(#REF!=""," ",RIGHT(#REF!,1)) -> #REF! | N20: =IF(#REF!=""," ",#REF!) -> #REF! | O20: =IF(#REF!<=9," ",INT(#REF!/10)) -> #REF! | P20: =IF(#REF!=""," ",RIGHT(#REF!,1)) -> #REF! | Q20: =IF(#REF!=""," ",#REF!) -> #REF! | R20: =IF(#REF!=""," ",#REF!) -> #REF! | S20: =IF(#REF!=""," ",#REF!) -> #REF! | T20: =IF(#REF!=""," ",#REF!) -> #REF! | U20: =IF(#REF!=""," ",#REF!) -> #REF! | V20: =IF(#REF!=""," ",#REF!) -> #REF! | W20: =IF(#REF!=""," ",#REF!) -> #REF! | X20: =IF(#REF!=""," ",#REF!) -> #REF! | Y20: =" " | Z20: =" " | AA20: =" " | AB20: =" " | AC20: =" " | AF20: =AG20&AH20&AI20 -> #REF! | AG20: =A20&B20&C20&D20&E20&F20&G20&H20&I20&J20&K20&L20&M20&N20&O20&P20&Q20&R20&S20&T20&U20&V20&W20&X20&Y20&Z20&AA20&AB20 -> #REF!
A21: =#REF! -> #REF! | B21: =#REF! -> #REF! | C21: 20 | D21: =IF(#REF!<=9," ",INT(#REF!/10)) -> #REF! | E21: =IF(#REF!=""," ",RIGHT(#REF!,1)) -> #REF! | F21: =IF(#REF!<=9," ",INT(#REF!/10)) -> #REF! | G21: =IF(#REF!=""," ",RIGHT(#REF!,1)) -> #REF! | H21: =IF(#REF!=""," ",#REF!) -> #REF! | I21: =IF(#REF!=""," ",#REF!) -> #REF! | J21: =IF(#REF!=""," ",#REF!) -> #REF! | K21: =IF(#REF!=""," ",#REF!) -> #REF! | L21: =IF(#REF!<=9," ",INT(#REF!/10)) -> #REF! | M21: =IF(#REF!=""," ",RIGHT(#REF!,1)) -> #REF! | N21: =IF(#REF!=""," ",#REF!) -> #REF! | O21: =IF(#REF!<=9," ",INT(#REF!/10)) -> #REF! | P21: =IF(#REF!=""," ",RIGHT(#REF!,1)) -> #REF! | Q21: =IF(#REF!=""," ",#REF!) -> #REF! | R21: =IF(#REF!=""," ",#REF!) -> #REF! | S21: =IF(#REF!=""," ",#REF!) -> #REF! | T21: =IF(#REF!=""," ",#REF!) -> #REF! | U21: =IF(#REF!=""," ",#REF!) -> #REF! | V21: =IF(#REF!=""," ",#REF!) -> #REF! | W21: =IF(#REF!=""," ",#REF!) -> #REF! | X21: =IF(#REF!=""," ",#REF!) -> #REF! | Y21: =" " | Z21: =" " | AA21: =" " | AB21: =" " | AC21: =" " | AF21: =AG21&AH21&AI21 -> #REF! | AG21: =A21&B21&C21&D21&E21&F21&G21&H21&I21&J21&K21&L21&M21&N21&O21&P21&Q21&R21&S21&T21&U21&V21&W21&X21&Y21&Z21&AA21&AB21 -> #REF!
A22: =#REF! -> #REF! | B22: =#REF! -> #REF! | C22: 21 | D22: =IF(#REF!<=9," ",INT(#REF!/10)) -> #REF! | E22: =IF(#REF!=""," ",RIGHT(#REF!,1)) -> #REF! | F22: =IF(#REF!<=9," ",INT(#REF!/10)) -> #REF! | G22: =IF(#REF!=""," ",RIGHT(#REF!,1)) -> #REF! | H22: =IF(#REF!=""," ",#REF!) -> #REF! | I22: =IF(#REF!=""," ",#REF!) -> #REF! | J22: =IF(#REF!=""," ",#REF!) -> #REF! | K22: =IF(#REF!=""," ",#REF!) -> #REF! | L22: =IF(#REF!<=9," ",INT(#REF!/10)) -> #REF! | M22: =IF(#REF!=""," ",RIGHT(#REF!,1)) -> #REF! | N22: =IF(#REF!=""," ",#REF!) -> #REF! | O22: =IF(#REF!<=9," ",INT(#REF!/10)) -> #REF! | P22: =IF(#REF!=""," ",RIGHT(#REF!,1)) -> #REF! | Q22: =IF(#REF!=""," ",#REF!) -> #REF! | R22: =IF(#REF!=""," ",#REF!) -> #REF! | S22: =IF(#REF!=""," ",#REF!) -> #REF! | T22: =IF(#REF!=""," ",#REF!) -> #REF! | U22: =IF(#REF!=""," ",#REF!) -> #REF! | V22: =IF(#REF!=""," ",#REF!) -> #REF! | W22: =IF(#REF!=""," ",#REF!) -> #REF! | X22: =IF(#REF!=""," ",#REF!) -> #REF! | Y22: =" " | Z22: =" " | AA22: =" " | AB22: =" " | AC22: =" " | AF22: =AG22&AH22&AI22 -> #REF! | AG22: =A22&B22&C22&D22&E22&F22&G22&H22&I22&J22&K22&L22&M22&N22&O22&P22&Q22&R22&S22&T22&U22&V22&W22&X22&Y22&Z22&AA22&AB22 -> #REF!
A23: =#REF! -> #REF! | B23: =#REF! -> #REF! | C23: 22 | D23: =IF(#REF!<=9," ",INT(#REF!/10)) -> #REF! | E23: =IF(#REF!=""," ",RIGHT(#REF!,1)) -> #REF! | F23: =IF(#REF!<=9," ",INT(#REF!/10)) -> #REF! | G23: =IF(#REF!=""," ",RIGHT(#REF!,1)) -> #REF! | H23: =IF(#REF!=""," ",#REF!) -> #REF! | I23: =IF(#REF!=""," ",#REF!) -> #REF! | J23: =IF(#REF!=""," ",#REF!) -> #REF! | K23: =IF(#REF!=""," ",#REF!) -> #REF! | L23: =IF(#REF!<=9," ",INT(#REF!/10)) -> #REF! | M23: =IF(#REF!=""," ",RIGHT(#REF!,1)) -> #REF! | N23: =IF(#REF!=""," ",#REF!) -> #REF! | O23: =IF(#REF!<=9," ",INT(#REF!/10)) -> #REF! | P23: =IF(#REF!=""," ",RIGHT(#REF!,1)) -> #REF! | Q23: =IF(#REF!=""," ",#REF!) -> #REF! | R23: =IF(#REF!=""," ",#REF!) -> #REF! | S23: =IF(#REF!=""," ",#REF!) -> #REF! | T23: =IF(#REF!=""," ",#REF!) -> #REF! | U23: =IF(#REF!=""," ",#REF!) -> #REF! | V23: =IF(#REF!=""," ",#REF!) -> #REF! | W23: =IF(#REF!=""," ",#REF!) -> #REF! | X23: =IF(#REF!=""," ",#REF!) -> #REF! | Y23: =" " | Z23: =" " | AA23: =" " | AB23: =" " | AC23: =" " | AF23: =AG23&AH23&AI23 -> #REF! | AG23: =A23&B23&C23&D23&E23&F23&G23&H23&I23&J23&K23&L23&M23&N23&O23&P23&Q23&R23&S23&T23&U23&V23&W23&X23&Y23&Z23&AA23&AB23 -> #REF!
A24: =#REF! -> #REF! | B24: =#REF! -> #REF! | C24: 23 | D24: =IF(#REF!<=9," ",INT(#REF!/10)) -> #REF! | E24: =IF(#REF!=""," ",RIGHT(#REF!,1)) -> #REF! | F24: =IF(#REF!<=9," ",INT(#REF!/10)) -> #REF! | G24: =IF(#REF!=""," ",RIGHT(#REF!,1)) -> #REF! | H24: =IF(#REF!=""," ",#REF!) -> #REF! | I24: =IF(#REF!=""," ",#REF!) -> #REF! | J24: =IF(#REF!=""," ",#REF!) -> #REF! | K24: =IF(#REF!=""," ",#REF!) -> #REF! | L24: =IF(#REF!<=9," ",INT(#REF!/10)) -> #REF! | M24: =IF(#REF!=""," ",RIGHT(#REF!,1)) -> #REF! | N24: =IF(#REF!=""," ",#REF!) -> #REF! | O24: =IF(#REF!<=9," ",INT(#REF!/10)) -> #REF! | P24: =IF(#REF!=""," ",RIGHT(#REF!,1)) -> #REF! | Q24: =IF(#REF!=""," ",#REF!) -> #REF! | R24: =IF(#REF!=""," ",#REF!) -> #REF! | S24: =IF(#REF!=""," ",#REF!) -> #REF! | T24: =IF(#REF!=""," ",#REF!) -> #REF! | U24: =IF(#REF!=""," ",#REF!) -> #REF! | V24: =IF(#REF!=""," ",#REF!) -> #REF! | W24: =IF(#REF!=""," ",#REF!) -> #REF! | X24: =IF(#REF!=""," ",#REF!) -> #REF! | Y24: =" " | Z24: =" " | AA24: =" " | AB24: =" " | AC24: =" " | AF24: =AG24&AH24&AI24 -> #REF! | AG24: =A24&B24&C24&D24&E24&F24&G24&H24&I24&J24&K24&L24&M24&N24&O24&P24&Q24&R24&S24&T24&U24&V24&W24&X24&Y24&Z24&AA24&AB24 -> #REF!
A25: =#REF! -> #REF! | B25: =#REF! -> #REF! | C25: 24 | D25: =IF(#REF!<=9," ",INT(#REF!/10)) -> #REF! | E25: =IF(#REF!=""," ",RIGHT(#REF!,1)) -> #REF! | F25: =IF(#REF!<=9," ",INT(#REF!/10)) -> #REF! | G25: =IF(#REF!=""," ",RIGHT(#REF!,1)) -> #REF! | H25: =IF(#REF!=""," ",#REF!) -> #REF! | I25: =IF(#REF!=""," ",#REF!) -> #REF! | J25: =IF(#REF!=""," ",#REF!) -> #REF! | K25: =IF(#REF!=""," ",#REF!) -> #REF! | L25: =IF(#REF!<=9," ",INT(#REF!/10)) -> #REF! | M25: =IF(#REF!=""," ",RIGHT(#REF!,1)) -> #REF! | N25: =IF(#REF!=""," ",#REF!) -> #REF! | O25: =IF(#REF!<=9," ",INT(#REF!/10)) -> #REF! | P25: =IF(#REF!=""," ",RIGHT(#REF!,1)) -> #REF! | Q25: =IF(#REF!=""," ",#REF!) -> #REF! | R25: =IF(#REF!=""," ",#REF!) -> #REF! | S25: =IF(#REF!=""," ",#REF!) -> #REF! | T25: =IF(#REF!=""," ",#REF!) -> #REF! | U25: =IF(#REF!=""," ",#REF!) -> #REF! | V25: =IF(#REF!=""," ",#REF!) -> #REF! | W25: =IF(#REF!=""," ",#REF!) -> #REF! | X25: =IF(#REF!=""," ",#REF!) -> #REF! | Y25: =" " | Z25: =" " | AA25: =" " | AB25: =" " | AC25: =" " | AF25: =AG25&AH25&AI25 -> #REF! | AG25: =A25&B25&C25&D25&E25&F25&G25&H25&I25&J25&K25&L25&M25&N25&O25&P25&Q25&R25&S25&T25&U25&V25&W25&X25&Y25&Z25&AA25&AB25 -> #REF!
A26: =#REF! -> #REF! | B26: =#REF! -> #REF! | C26: 25 | D26: =IF(#REF!<=9," ",INT(#REF!/10)) -> #REF! | E26: =IF(#REF!=""," ",RIGHT(#REF!,1)) -> #REF! | F26: =IF(#REF!<=9," ",INT(#REF!/10)) -> #REF! | G26: =IF(#REF!=""," ",RIGHT(#REF!,1)) -> #REF! | H26: =IF(#REF!=""," ",#REF!) -> #REF! | I26: =IF(#REF!=""," ",#REF!) -> #REF! | J26: =IF(#REF!=""," ",#REF!) -> #REF! | K26: =IF(#REF!=""," ",#REF!) -> #REF! | L26: =IF(#REF!<=9," ",INT(#REF!/10)) -> #REF! | M26: =IF(#REF!=""," ",RIGHT(#REF!,1)) -> #REF! | N26: =IF(#REF!=""," ",#REF!) -> #REF! | O26: =IF(#REF!<=9," ",INT(#REF!/10)) -> #REF! | P26: =IF(#REF!=""," ",RIGHT(#REF!,1)) -> #REF! | Q26: =IF(#REF!=""," ",#REF!) -> #REF! | R26: =IF(#REF!=""," ",#REF!) -> #REF! | S26: =IF(#REF!=""," ",#REF!) -> #REF! | T26: =IF(#REF!=""," ",#REF!) -> #REF! | U26: =IF(#REF!=""," ",#REF!) -> #REF! | V26: =IF(#REF!=""," ",#REF!) -> #REF! | W26: =IF(#REF!=""," ",#REF!) -> #REF! | X26: =IF(#REF!=""," ",#REF!) -> #REF! | Y26: =" " | Z26: =" " | AA26: =" " | AB26: =" " | AC26: =" " | AF26: =AG26&AH26&AI26 -> #REF! | AG26: =A26&B26&C26&D26&E26&F26&G26&H26&I26&J26&K26&L26&M26&N26&O26&P26&Q26&R26&S26&T26&U26&V26&W26&X26&Y26&Z26&AA26&AB26 -> #REF!
A27: =#REF! -> #REF! | B27: =#REF! -> #REF! | C27: 26 | D27: =IF(#REF!<=9," ",INT(#REF!/10)) -> #REF! | E27: =IF(#REF!=""," ",RIGHT(#REF!,1)) -> #REF! | F27: =IF(#REF!<=9," ",INT(#REF!/10)) -> #REF! | G27: =IF(#REF!=""," ",RIGHT(#REF!,1)) -> #REF! | H27: =IF(#REF!=""," ",#REF!) -> #REF! | I27: =IF(#REF!=""," ",#REF!) -> #REF! | J27: =IF(#REF!=""," ",#REF!) -> #REF! | K27: =IF(#REF!=""," ",#REF!) -> #REF! | L27: =IF(#REF!<=9," ",INT(#REF!/10)) -> #REF! | M27: =IF(#REF!=""," ",RIGHT(#REF!,1)) -> #REF! | N27: =IF(#REF!=""," ",#REF!) -> #REF! | O27: =IF(#REF!<=9," ",INT(#REF!/10)) -> #REF! | P27: =IF(#REF!=""," ",RIGHT(#REF!,1)) -> #REF! | Q27: =IF(#REF!=""," ",#REF!) -> #REF! | R27: =IF(#REF!=""," ",#REF!) -> #REF! | S27: =IF(#REF!=""," ",#REF!) -> #REF! | T27: =IF(#REF!=""," ",#REF!) -> #REF! | U27: =IF(#REF!=""," ",#REF!) -> #REF! | V27: =IF(#REF!=""," ",#REF!) -> #REF! | W27: =IF(#REF!=""," ",#REF!) -> #REF! | X27: =IF(#REF!=""," ",#REF!) -> #REF! | Y27: =" " | Z27: =" " | AA27: =" " | AB27: =" " | AC27: =" " | AF27: =AG27&AH27&AI27 -> #REF! | AG27: =A27&B27&C27&D27&E27&F27&G27&H27&I27&J27&K27&L27&M27&N27&O27&P27&Q27&R27&S27&T27&U27&V27&W27&X27&Y27&Z27&AA27&AB27 -> #REF!
A28: =#REF! -> #REF! | B28: =#REF! -> #REF! | C28: 27 | D28: =IF(#REF!<=9," ",INT(#REF!/10)) -> #REF! | E28: =IF(#REF!=""," ",RIGHT(#REF!,1)) -> #REF! | F28: =IF(#REF!<=9," ",INT(#REF!/10)) -> #REF! | G28: =IF(#REF!=""," ",RIGHT(#REF!,1)) -> #REF! | H28: =IF(#REF!=""," ",#REF!) -> #REF! | I28: =IF(#REF!=""," ",#REF!) -> #REF! | J28: =IF(#REF!=""," ",#REF!) -> #REF! | K28: =IF(#REF!=""," ",#REF!) -> #REF! | L28: =IF(#REF!<=9," ",INT(#REF!/10)) -> #REF! | M28: =IF(#REF!=""," ",RIGHT(#REF!,1)) -> #REF! | N28: =IF(#REF!=""," ",#REF!) -> #REF! | O28: =IF(#REF!<=9," ",INT(#REF!/10)) -> #REF! | P28: =IF(#REF!=""," ",RIGHT(#REF!,1)) -> #REF! | Q28: =IF(#REF!=""," ",#REF!) -> #REF! | R28: =IF(#REF!=""," ",#REF!) -> #REF! | S28: =IF(#REF!=""," ",#REF!) -> #REF! | T28: =IF(#REF!=""," ",#REF!) -> #REF! | U28: =IF(#REF!=""," ",#REF!) -> #REF! | V28: =IF(#REF!=""," ",#REF!) -> #REF! | W28: =IF(#REF!=""," ",#REF!) -> #REF! | X28: =IF(#REF!=""," ",#REF!) -> #REF! | Y28: =" " | Z28: =" " | AA28: =" " | AB28: =" " | AC28: =" " | AF28: =AG28&AH28&AI28 -> #REF! | AG28: =A28&B28&C28&D28&E28&F28&G28&H28&I28&J28&K28&L28&M28&N28&O28&P28&Q28&R28&S28&T28&U28&V28&W28&X28&Y28&Z28&AA28&AB28 -> #REF!
A29: =#REF! -> #REF! | B29: =#REF! -> #REF! | C29: 28 | D29: =IF(#REF!<=9," ",INT(#REF!/10)) -> #REF! | E29: =IF(#REF!=""," ",RIGHT(#REF!,1)) -> #REF! | F29: =IF(#REF!<=9," ",INT(#REF!/10)) -> #REF! | G29: =IF(#REF!=""," ",RIGHT(#REF!,1)) -> #REF! | H29: =IF(#REF!=""," ",#REF!) -> #REF! | I29: =IF(#REF!=""," ",#REF!) -> #REF! | J29: =IF(#REF!=""," ",#REF!) -> #REF! | K29: =IF(#REF!=""," ",#REF!) -> #REF! | L29: =IF(#REF!<=9," ",INT(#REF!/10)) -> #REF! | M29: =IF(#REF!=""," ",RIGHT(#REF!,1)) -> #REF! | N29: =IF(#REF!=""," ",#REF!) -> #REF! | O29: =IF(#REF!<=9," ",INT(#REF!/10)) -> #REF! | P29: =IF(#REF!=""," ",RIGHT(#REF!,1)) -> #REF! | Q29: =IF(#REF!=""," ",#REF!) -> #REF! | R29: =IF(#REF!=""," ",#REF!) -> #REF! | S29: =IF(#REF!=""," ",#REF!) -> #REF! | T29: =IF(#REF!=""," ",#REF!) -> #REF! | U29: =IF(#REF!=""," ",#REF!) -> #REF! | V29: =IF(#REF!=""," ",#REF!) -> #REF! | W29: =IF(#REF!=""," ",#REF!) -> #REF! | X29: =IF(#REF!=""," ",#REF!) -> #REF! | Y29: =" " | Z29: =" " | AA29: =" " | AB29: =" " | AC29: =" " | AF29: =AG29&AH29&AI29 -> #REF! | AG29: =A29&B29&C29&D29&E29&F29&G29&H29&I29&J29&K29&L29&M29&N29&O29&P29&Q29&R29&S29&T29&U29&V29&W29&X29&Y29&Z29&AA29&AB29 -> #REF!
... A33: =#REF! -> #REF! | B33: =#REF! -> #REF! | C33: 32 | D33: =IF(#REF!<=9," ",INT(#REF!/10)) -> #REF! | E33: =IF(#REF!=""," ",RIGHT(#REF!,1)) -> #REF! | F33: =IF(#REF!<=9," ",INT(#REF!/10)) -> #REF! | G33: =IF(#REF!=""," ",RIGHT(#REF!,1)) -> #REF! | H33: =IF(#REF!=""," ",#REF!) -> #REF! | I33: =IF(#REF!=""," ",#REF!) -> #REF! | J33: =IF(#REF!=""," ",#REF!) -> #REF! | K33: =IF(#REF!=""," ",#REF!) -> #REF! | L33: =IF(#REF!<=9," ",INT(#REF!/10)) -> #REF! | M33: =IF(#REF!=""," ",RIGHT(#REF!,1)) -> #REF! | N33: =IF(#REF!=""," ",#REF!) -> #REF! | O33: =IF(#REF!<=9," ",INT(#REF!/10)) -> #REF! | P33: =IF(#REF!=""," ",RIGHT(#REF!,1)) -> #REF! | Q33: =IF(#REF!=""," ",#REF!) -> #REF! | R33: =IF(#REF!=""," ",#REF!) -> #REF! | S33: =IF(#REF!=""," ",#REF!) -> #REF! | T33: =IF(#REF!=""," ",#REF!) -> #REF! | U33: =IF(#REF!=""," ",#REF!) -> #REF! | V33: =IF(#REF!=""," ",#REF!) -> #REF! | W33: =IF(#REF!=""," ",#REF!) -> #REF! | X33: =IF(#REF!=""," ",#REF!) -> #REF! | Y33: =" " | Z33: =" " | AA33: =" " | AB33: =" " | AC33: =" " | AF33: =AG33&AH33&AI33 -> #REF! | AG33: =A33&B33&C33&D33&E33&F33&G33&H33&I33&J33&K33&L33&M33&N33&O33&P33&Q33&R33&S33&T33&U33&V33&W33&X33&Y33&Z33&AA33&AB33 -> #REF!
A34: =#REF! -> #REF! | B34: =#REF! -> #REF! | C34: 33 | D34: =IF(#REF!<=9," ",INT(#REF!/10)) -> #REF! | E34: =IF(#REF!=0," ",RIGHT(#REF!,1)) -> #REF! | F34: =IF(#REF!<=9," ",INT(#REF!/10)) -> #REF! | G34: =IF(#REF!=0," ",RIGHT(#REF!,1)) -> #REF! | H34: =IF(#REF!=0," ",#REF!) -> #REF! | I34: =IF(#REF!=0," ",#REF!) -> #REF! | J34: =IF(#REF!=0," ",#REF!) -> #REF! | K34: =IF(#REF!=0," ",#REF!) -> #REF! | L34: =IF(#REF!<=9," ",INT(#REF!/10)) -> #REF! | M34: =IF(#REF!=0," ",RIGHT(#REF!,1)) -> #REF! | N34: =IF(#REF!=0," ",#REF!) -> #REF! | O34: =IF(#REF!<=9," ",INT(#REF!/10)) -> #REF! | P34: =IF(#REF!=0," ",RIGHT(#REF!,1)) -> #REF! | Q34: =IF(#REF!=0," ",#REF!) -> #REF! | R34: =IF(#REF!=0," ",#REF!) -> #REF! | S34: =IF(#REF!=0," ",#REF!) -> #REF! | T34: =IF(#REF!=0," ",#REF!) -> #REF! | U34: =IF(#REF!=0," ",#REF!) -> #REF! | V34: =IF(#REF!=0," ",#REF!) -> #REF! | W34: =IF(#REF!=0," ",#REF!) -> #REF! | X34: =IF(#REF!=0," ",#REF!) -> #REF! | Y34: =" " | Z34: =" " | AA34: =" " | AB34: =" " | AC34: =" " | AF34: =AG34&AH34&AI34 -> #REF! | AG34: =A34&B34&C34&D34&E34&F34&G34&H34&I34&J34&K34&L34&M34&N34&O34&P34&Q34&R34&S34&T34&U34&V34&W34&X34&Y34&Z34&AA34&AB34 -> #REF!
A35: =#REF! -> #REF! | B35: =#REF! -> #REF! | C35: 34 | D35: =IF(#REF!<=9," ",INT(#REF!/10)) -> #REF! | E35: =IF(#REF!=""," ",RIGHT(#REF!,1)) -> #REF! | F35: =IF(#REF!<=9," ",INT(#REF!/10)) -> #REF! | G35: =IF(#REF!=""," ",RIGHT(#REF!,1)) -> #REF! | H35: =" " | I35: =" " | J35: =" " | K35: =" " | L35: =" " | M35: =" " | N35: =" " | O35: =" " | ... AC35: =" " | AF35: =AG35&AH35&AI35 -> #REF! | AG35: =A35&B35&C35&D35&E35&F35&G35&H35&I35&J35&K35&L35&M35&N35&O35&P35&Q35&R35&S35&T35&U35&V35&W35&X35&Y35&Z35&AA35&AB35 -> #REF!
A36: =#REF! -> #REF! | B36: =#REF! -> #REF! | C36: 35 | D36: =IF(#REF!<=9," ",INT(#REF!/10)) -> #REF! | E36: =IF(#REF!=""," ",RIGHT(#REF!,1)) -> #REF! | F36: =IF(#REF!<=9," ",INT(#REF!/10)) -> #REF! | G36: =IF(#REF!=""," ",RIGHT(#REF!,1)) -> #REF! | H36: =" " | I36: =" " | J36: =" " | K36: =" " | L36: =" " | M36: =" " | N36: =" " | O36: =" " | ... AC36: =" " | AF36: =AG36&AH36&AI36 -> #REF! | AG36: =A36&B36&C36&D36&E36&F36&G36&H36&I36&J36&K36&L36&M36&N36&O36&P36&Q36&R36&S36&T36&U36&V36&W36&X36&Y36&Z36&AA36&AB36 -> #REF!
A37: =#REF! -> #REF! | B37: =#REF! -> #REF! | C37: 36 | D37: =IF(#REF!<=9," ",INT(#REF!/10)) -> #REF! | E37: =IF(#REF!=""," ",RIGHT(#REF!,1)) -> #REF! | F37: =IF(#REF!<=9," ",INT(#REF!/10)) -> #REF! | G37: =IF(#REF!=""," ",RIGHT(#REF!,1)) -> #REF! | H37: =" " | I37: =" " | J37: =" " | K37: =" " | L37: =" " | M37: =" " | N37: =" " | O37: =" " | ... AC37: =" " | AF37: =AG37&AH37&AI37 -> #REF! | AG37: =A37&B37&C37&D37&E37&F37&G37&H37&I37&J37&K37&L37&M37&N37&O37&P37&Q37&R37&S37&T37&U37&V37&W37&X37&Y37&Z37&AA37&AB37 -> #REF!
A38: =#REF! -> #REF! | B38: =#REF! -> #REF! | C38: 37 | D38: =IF(#REF!<=9," ",INT(#REF!/10)) -> #REF! | E38: =IF(#REF!=""," ",RIGHT(#REF!,1)) -> #REF! | F38: =IF(#REF!<=9," ",INT(#REF!/10)) -> #REF! | G38: =IF(#REF!=""," ",RIGHT(#REF!,1)) -> #REF! | H38: =" " | I38: =" " | J38: =" " | K38: =" " | L38: =" " | M38: =" " | N38: =" " | O38: =" " | ... AC38: =" " | AF38: =AG38&AH38&AI38 -> #REF! | AG38: =A38&B38&C38&D38&E38&F38&G38&H38&I38&J38&K38&L38&M38&N38&O38&P38&Q38&R38&S38&T38&U38&V38&W38&X38&Y38&Z38&AA38&AB38 -> #REF!
A39: =#REF! -> #REF! | B39: =#REF! -> #REF! | C39: 38 | D39: =IF(#REF!<=9," ",INT(#REF!/10)) -> #REF! | E39: =IF(#REF!=""," ",RIGHT(#REF!,1)) -> #REF! | F39: =IF(#REF!<=9," ",INT(#REF!/10)) -> #REF! | G39: =IF(#REF!=""," ",RIGHT(#REF!,1)) -> #REF! | H39: =IF(#REF!<=9," ",INT(#REF!/10)) -> #REF! | I39: =IF(#REF!=""," ",RIGHT(#REF!,1)) -> #REF! | J39: =IF(#REF!<=9," ",INT(#REF!/10)) -> #REF! | K39: =IF(#REF!=""," ",RIGHT(#REF!,1)) -> #REF! | L39: =IF(#REF!<=9," ",INT(#REF!/10)) -> #REF! | M39: =IF(#REF!=""," ",RIGHT(#REF!,1)) -> #REF! | N39: =IF(#REF!<=9," ",INT(#REF!/10)) -> #REF! | O39: =IF(#REF!=""," ",RIGHT(#REF!,1)) -> #REF! | P39: =IF(#REF!<=9," ",INT(#REF!/10)) -> #REF! | Q39: =IF(#REF!=""," ",RIGHT(#REF!,1)) -> #REF! | R39: =IF(#REF!<=9," ",INT(#REF!/10)) -> #REF! | S39: =IF(#REF!=""," ",RIGHT(#REF!,1)) -> #REF! | T39: =IF(#REF!<=9," ",INT(#REF!/10)) -> #REF! | U39: =IF(#REF!=0," ",RIGHT(#REF!,1)) -> #REF! | V39: =" " | W39: =" " | X39: =" " | Y39: =" " | Z39: =" " | AA39: =" " | AB39: =" " | AC39: =" " | AF39: =AG39&AH39&AI39 -> #REF! | AG39: =A39&B39&C39&D39&E39&F39&G39&H39&I39&J39&K39&L39&M39&N39&O39&P39&Q39&R39&S39&T39&U39&V39&W39&X39&Y39&Z39&AA39&AB39 -> #REF!
A40: =#REF! -> #REF! | B40: =#REF! -> #REF! | C40: 39 | D40: =IF(#REF!<=9," ",INT(#REF!/10)) -> #REF! | E40: =IF(#REF!=""," ",RIGHT(#REF!,1)) -> #REF! | F40: =IF(#REF!<=9," ",INT(#REF!/10)) -> #REF! | G40: =IF(#REF!=""," ",RIGHT(#REF!,1)) -> #REF! | H40: =IF(#REF!<=9," ",INT(#REF!/10)) -> #REF! | I40: =IF(#REF!=""," ",RIGHT(#REF!,1)) -> #REF! | J40: =IF(#REF!<=9," ",INT(#REF!/10)) -> #REF! | K40: =IF(#REF!=""," ",RIGHT(#REF!,1)) -> #REF! | L40: =IF(#REF!<=9," ",INT(#REF!/10)) -> #REF! | M40: =IF(#REF!=""," ",RIGHT(#REF!,1)) -> #REF! | N40: =IF(#REF!<=9," ",INT(#REF!/10)) -> #REF! | O40: =IF(#REF!=""," ",RIGHT(#REF!,1)) -> #REF! | P40: =IF(#REF!<=9," ",INT(#REF!/10)) -> #REF! | Q40: =IF(#REF!=""," ",RIGHT(#REF!,1)) -> #REF! | R40: =IF(#REF!<=9," ",INT(#REF!/10)) -> #REF! | S40: =IF(#REF!=""," ",RIGHT(#REF!,1)) -> #REF! | T40: =IF(#REF!<=9," ",INT(#REF!/10)) -> #REF! | U40: =IF(#REF!=0," ",RIGHT(#REF!,1)) -> #REF! | V40: =" " | W40: =" " | X40: =" " | Y40: =" " | Z40: =" " | AA40: =" " | AB40: =" " | AC40: =" " | AF40: =AG40&AH40&AI40 -> #REF! | AG40: =A40&B40&C40&D40&E40&F40&G40&H40&I40&J40&K40&L40&M40&N40&O40&P40&Q40&R40&S40&T40&U40&V40&W40&X40&Y40&Z40&AA40&AB40 -> #REF!
A41: =#REF! -> #REF! | B41: =#REF! -> #REF! | C41: 40 | D41: =IF(#REF!<=9," ",INT(#REF!/10)) -> #REF! | E41: =IF(#REF!=""," ",RIGHT(#REF!,1)) -> #REF! | F41: =IF(#REF!<=9," ",INT(#REF!/10)) -> #REF! | G41: =IF(#REF!=""," ",RIGHT(#REF!,1)) -> #REF! | H41: =IF(#REF!<=9," ",INT(#REF!/10)) -> #REF! | I41: =IF(#REF!=""," ",RIGHT(#REF!,1)) -> #REF! | J41: =IF(#REF!<=9," ",INT(#REF!/10)) -> #REF! | K41: =IF(#REF!=""," ",RIGHT(#REF!,1)) -> #REF! | L41: =IF(#REF!<=9," ",INT(#REF!/10)) -> #REF! | M41: =IF(#REF!=""," ",RIGHT(#REF!,1)) -> #REF! | N41: =IF(#REF!<=9," ",INT(#REF!/10)) -> #REF! | O41: =IF(#REF!=""," ",RIGHT(#REF!,1)) -> #REF! | P41: =IF(#REF!<=9," ",INT(#REF!/10)) -> #REF! | Q41: =IF(#REF!=""," ",RIGHT(#REF!,1)) -> #REF! | R41: =IF(#REF!<=9," ",INT(#REF!/10)) -> #REF! | S41: =IF(#REF!=""," ",RIGHT(#REF!,1)) -> #REF! | T41: =IF(#REF!<=9," ",INT(#REF!/10)) -> #REF! | U41: =IF(#REF!=0," ",RIGHT(#REF!,1)) -> #REF! | V41: =" " | W41: =" " | X41: =" " | Y41: =" " | Z41: =" " | AA41: =" " | AB41: =" " | AC41: =" " | AF41: =AG41&AH41&AI41 -> #REF! | AG41: =A41&B41&C41&D41&E41&F41&G41&H41&I41&J41&K41&L41&M41&N41&O41&P41&Q41&R41&S41&T41&U41&V41&W41&X41&Y41&Z41&AA41&AB41 -> #REF!
A42: =#REF! -> #REF! | B42: =#REF! -> #REF! | C42: 41 | D42: =IF(#REF!>99,LEFT(#REF!,1)," ") -> #REF! | E42: =IF(#REF!>9,MID(#REF!,LEN(#REF!)-1,1)," ") -> #REF! | F42: =IF(#REF!=""," ",RIGHT(#REF!,1)) -> #REF! | G42: =IF(#REF!>99,LEFT(#REF!,1)," ") -> #REF! | H42: =IF(#REF!>9,MID(#REF!,LEN(#REF!)-1,1)," ") -> #REF! | I42: =IF(#REF!=""," ",RIGHT(#REF!,1)) -> #REF! | J42: =IF(#REF!>99,LEFT(#REF!,1)," ") -> #REF! | K42: =IF(#REF!>9,MID(#REF!,LEN(#REF!)-1,1)," ") -> #REF! | L42: =IF(#REF!=""," ",RIGHT(#REF!,1)) -> #REF! | M42: =IF(#REF!>99,LEFT(#REF!,1)," ") -> #REF! | N42: =IF(#REF!>9,MID(#REF!,LEN(#REF!)-1,1)," ") -> #REF! | O42: =IF(#REF!=""," ",RIGHT(#REF!,1)) -> #REF! | P42: =IF(#REF!>999,LEFT(#REF!,1)," ") -> #REF! | Q42: =IF(#REF!>99,MID(#REF!,LEN(#REF!)-2,1)," ") -> #REF! | R42: =IF(#REF!>9,MID(#REF!,LEN(#REF!)-1,1)," ") -> #REF! | S42: =IF(#REF!=0," ",RIGHT(#REF!,1)) -> #REF! | T42: =IF(#REF!>99,LEFT(#REF!,1)," ") -> #REF! | U42: =IF(#REF!>9,MID(#REF!,LEN(#REF!)-1,1)," ") -> #REF! | V42: =IF(#REF!=""," ",RIGHT(#REF!,1)) -> #REF! | W42: =IF(#REF!>99,LEFT(#REF!,1)," ") -> #REF! | X42: =IF(#REF!>9,MID(#REF!,LEN(#REF!)-1,1)," ") -> #REF! | Y42: =IF(#REF!=""," ",RIGHT(#REF!,1)) -> #REF! | Z42: =IF(#REF!>99,LEFT(#REF!,1)," ") -> #REF! | AA42: =IF(#REF!>9,MID(#REF!,LEN(#REF!)-1,1)," ") -> #REF! | AB42: =IF(#REF!=""," ",RIGHT(#REF!,1)) -> #REF! | AF42: =AG42&AH42&AI42 -> #REF! | AG42: =A42&B42&C42&D42&E42&F42&G42&H42&I42&J42&K42&L42&M42&N42&O42&P42&Q42&R42&S42&T42&U42&V42&W42&X42&Y42&Z42&AA42&AB42 -> #REF! | AH42: =D44&E44&F44&G44&H44&I44&J44&K44&L44&M44&N44&O44&P44&Q44&R44&S44&T44&U44&V44&W44&X44&Y44&Z44&AA44&AB44&AC44 -> #REF! | AI42: =D46&E46&F46&G46&H46&I46&J46&K46&L46&M46&N46&O46&P46&Q46&R46&S46&T46&U46&V46 -> #REF!
D43: 33 | E43: 34 | F43: 35 | G43: 36 | H43: 37 | I43: 38 | J43: 39 | K43: 40 | L43: 41 | M43: 42 | N43: 43 | O43: 44 | P43: 45 | Q43: 46 | R43: 47 | S43: 48 | T43: 49 | U43: 50 | V43: 51 | W43: 52 | X43: 53 | Y43: 54 | Z43: 55 | AA43: 56 | AB43: 57 | AC43: 58
D44: =IF(#REF!>99,LEFT(#REF!,1)," ") -> #REF! | E44: =IF(#REF!>9,MID(#REF!,LEN(#REF!)-1,1)," ") -> #REF! | F44: =IF(#REF!=""," ",RIGHT(#REF!,1)) -> #REF! | G44: =IF(#REF!>999,LEFT(#REF!,1)," ") -> #REF! | H44: =IF(#REF!>99,MID(#REF!,LEN(#REF!)-2,1)," ") -> #REF! | I44: =IF(#REF!>9,MID(#REF!,LEN(#REF!)-1,1)," ") -> #REF! | J44: =IF(#REF!=0," ",RIGHT(#REF!,1)) -> #REF! | K44: =IF(#REF!>99,LEFT(#REF!,1)," ") -> #REF! | L44: =IF(#REF!>9,MID(#REF!,LEN(#REF!)-1,1)," ") -> #REF! | M44: =IF(#REF!=""," ",RIGHT(#REF!,1)) -> #REF! | N44: =IF(#REF!>99,LEFT(#REF!,1)," ") -> #REF! | O44: =IF(#REF!>9,MID(#REF!,LEN(#REF!)-1,1)," ") -> #REF! | P44: =IF(#REF!=""," ",RIGHT(#REF!,1)) -> #REF! | Q44: =IF(#REF!>99,LEFT(#REF!,1)," ") -> #REF! | R44: =IF(#REF!>9,MID(#REF!,LEN(#REF!)-1,1)," ") -> #REF! | S44: =IF(#REF!=""," ",RIGHT(#REF!,1)) -> #REF! | T44: =IF(#REF!>99,LEFT(#REF!,1)," ") -> #REF! | U44: =IF(#REF!>9,MID(#REF!,LEN(#REF!)-1,1)," ") -> #REF! | V44: =IF(#REF!=""," ",RIGHT(#REF!,1)) -> #REF! | W44: =IF(#REF!>999,LEFT(#REF!,1)," ") -> #REF! | X44: =IF(#REF!>99,MID(#REF!,LEN(#REF!)-2,1)," ") -> #REF! | Y44: =IF(#REF!>9,MID(#REF!,LEN(#REF!)-1,1)," ") -> #REF! | Z44: =IF(#REF!=0," ",RIGHT(#REF!,1)) -> #REF! | AA44: =IF(#REF!>99,LEFT(#REF!,1)," ") -> #REF! | AB44: =IF(#REF!>9,MID(#REF!,LEN(#REF!)-1,1)," ") -> #REF! | AC44: =IF(#REF!=""," ",RIGHT(#REF!,1)) -> #REF!
D45: 59 | E45: 60 | F45: 61 | G45: 62 | H45: 63 | I45: 64 | J45: 65 | K45: 66 | L45: 67 | M45: 68 | N45: 69 | O45: 70 | P45: 71 | Q45: 72 | R45: 73 | S45: 74 | T45: 75 | U45: 76 | V45: 77
D46: =IF(#REF!>99,LEFT(#REF!,1)," ") -> #REF! | E46: =IF(#REF!>9,MID(#REF!,LEN(#REF!)-1,1)," ") -> #REF! | F46: =IF(#REF!=""," ",RIGHT(#REF!,1)) -> #REF! | G46: =IF(#REF!>99,LEFT(#REF!,1)," ") -> #REF! | H46: =IF(#REF!>9,MID(#REF!,LEN(#REF!)-1,1)," ") -> #REF! | I46: =IF(#REF!=""," ",RIGHT(#REF!,1)) -> #REF! | J46: =IF(#REF!>99,LEFT(#REF!,1)," ") -> #REF! | K46: =IF(#REF!>9,MID(#REF!,LEN(#REF!)-1,1)," ") -> #REF! | L46: =IF(#REF!=""," ",RIGHT(#REF!,1)) -> #REF! | M46: =IF(#REF!>999,LEFT(#REF!,1)," ") -> #REF! | N46: =IF(#REF!>99,MID(#REF!,LEN(#REF!)-2,1)," ") -> #REF! | O46: =IF(#REF!>9,MID(#REF!,LEN(#REF!)-1,1)," ") -> #REF! | P46: =IF(#REF!=0," ",RIGHT(#REF!,1)) -> #REF! | Q46: =IF(#REF!=""," ",#REF!) -> #REF! | R46: =IF(#REF!=""," ",#REF!) -> #REF! | S46: =IF(#REF!=""," ",#REF!) -> #REF! | T46: =IF(#REF!=""," ",#REF!) -> #REF! | U46: =IF(#REF!=""," ",#REF!) -> #REF! | V46: =IF(#REF!=""," ",#REF!) -> #REF!

Sheet output_data
A1: =data1!AF2 -> #REF!
A2: =data1!AF3 -> #REF!
A3: =data1!AF4 -> #REF!
A4: =data1!AF5 -> #REF!
A5: =data1!AF6 -> #REF!
A6: =data1!AF7 -> #REF!
A7: =data1!AF8 -> #REF!
A8: =data1!AF9 -> #REF!
A9: =data1!AF10 -> #REF!
A10: =data1!AF11 -> #REF!
A11: =data1!AF12 -> #REF!
A12: =data1!AF13 -> #REF!
... A41: =data1!AF42 -> #REF!

Sheet data2
A1: 1234 | B1: 5 | C1: 678 | D1: 9 | E1: 10 | F1: 11 | G1: 12 | H1: 13 | I1: 14 | J1: 15 | K1: 16 | L1: 17 | M1: 18 | N1: 19 | O1: 20 | P1: 21 | Q1: 22 | R1: 23 | S1: 24 | T1: 25 | U1: 26 | V1: 27 | W1: 28 | X1: 29 | Y1: 30 | Z1: 31 | AA1: 32 | AB1: 33 | AC1: 34 | AD1: 35 | AE1: 36 | AF1: 37 | AG1: 38 | AH1: 39 | AI1: 40 | AJ1: 41 | AK1: 42 | AL1: 43 | AM1: 44 | AN1: 45 | AO1: 46 | AP1: 47 | AQ1: 48 | AR1: 49 | AS1: 50 | AT1: 51 | AU1: 52 | AV1: 53 | AW1: 54 | AX1: 55 | AY1: 56 | AZ1: 57 | BA1: 58 | BB1: 59 | BC1: 60 | BD1: 61 | BE1: 62 | BF1: 63 | BG1: 64 | BH1: 65 | BI1: 66 | BJ1: 67 | BK1: 68 | BL1: 69 | BM1: 70 | BN1: 71 | BO1: 72 | BQ1: 活用するデータ | BR1: データ１ | BS1: データ２ | BT1: データ３
A2: =IF(#REF!=""," ",#REF!) -> #REF! | B2: =IF(#REF!=""," ",#REF!) -> #REF! | C2: =IF(#REF!=""," ",#REF!) -> #REF! | D2: =IF(#REF!>99,LEFT(#REF!,1)," ") -> #REF! | E2: =IF(#REF!>9,MID(#REF!,LEN(#REF!)-1,1)," ") -> #REF! | F2: =IF(#REF!=""," ",RIGHT(#REF!,1)) -> #REF! | G2: =IF(#REF!>99,LEFT(#REF!,1)," ") -> #REF! | H2: =IF(#REF!>9,MID(#REF!,LEN(#REF!)-1,1)," ") -> #REF! | I2: =IF(#REF!=""," ",RIGHT(#REF!,1)) -> #REF! | J2: =IF(#REF!>99,LEFT(#REF!,1)," ") -> #REF! | K2: =IF(#REF!>9,MID(#REF!,LEN(#REF!)-1,1)," ") -> #REF! | L2: =IF(#REF!=""," ",RIGHT(#REF!,1)) -> #REF! | M2: =IF(#REF!>99,LEFT(#REF!,1)," ") -> #REF! | N2: =IF(#REF!>9,MID(#REF!,LEN(#REF!)-1,1)," ") -> #REF! | O2: =IF(#REF!=""," ",RIGHT(#REF!,1)) -> #REF! | P2: =IF(#REF!>999,LEFT(#REF!,1)," ") -> #REF! | Q2: =IF(#REF!>99,MID(#REF!,LEN(#REF!)-2,1)," ") -> #REF! | R2: =IF(#REF!>9,MID(#REF!,LEN(#REF!)-1,1)," ") -> #REF! | S2: =IF(#REF!=0," ",RIGHT(#REF!,1)) -> #REF! | T2: =IF(#REF!>99,LEFT(#REF!,1)," ") -> #REF! | U2: =IF(#REF!>9,MID(#REF!,LEN(#REF!)-1,1)," ") -> #REF! | V2: =IF(#REF!=""," ",RIGHT(#REF!,1)) -> #REF! | W2: =IF(#REF!>99,LEFT(#REF!,1)," ") -> #REF! | X2: =IF(#REF!>9,MID(#REF!,LEN(#REF!)-1,1)," ") -> #REF! | Y2: =IF(#REF!=""," ",RIGHT(#REF!,1)) -> #REF! | Z2: =IF(#REF!>99,LEFT(#REF!,1)," ") -> #REF! | AA2: =IF(#REF!>9,MID(#REF!,LEN(#REF!)-1,1)," ") -> #REF! | AB2: =IF(#REF!=""," ",RIGHT(#REF!,1)) -> #REF! | AC2: =IF(#REF!>99,LEFT(#REF!,1)," ") -> #REF! | AD2: =IF(#REF!>9,MID(#REF!,LEN(#REF!)-1,1)," ") -> #REF! | AE2: =IF(#REF!=""," ",RIGHT(#REF!,1)) -> #REF! | AF2: =IF(#REF!>999,LEFT(#REF!,1)," ") -> #REF! | AG2: =IF(#REF!>99,MID(#REF!,LEN(#REF!)-2,1)," ") -> #REF! | AH2: =IF(#REF!>9,MID(#REF!,LEN(#REF!)-1,1)," ") -> #REF! | AI2: =IF(#REF!=0," ",RIGHT(#REF!,1)) -> #REF! | AJ2: =IF(#REF!>99,LEFT(#REF!,1)," ") -> #REF! | AK2: =IF(#REF!>9,MID(#REF!,LEN(#REF!)-1,1)," ") -> #REF! | AL2: =IF(#REF!=""," ",RIGHT(#REF!,1)) -> #REF! | AM2: =IF(#REF!>99,LEFT(#REF!,1)," ") -> #REF! | AN2: =IF(#REF!>9,MID(#REF!,LEN(#REF!)-1,1)," ") -> #REF! | AO2: =IF(#REF!=""," ",RIGHT(#REF!,1)) -> #REF! | AP2: =IF(#REF!>99,LEFT(#REF!,1)," ") -> #REF! | AQ2: =IF(#REF!>9,MID(#REF!,LEN(#REF!)-1,1)," ") -> #REF! | AR2: =IF(#REF!=""," ",RIGHT(#REF!,1)) -> #REF! | AS2: =IF(#REF!>99,LEFT(#REF!,1)," ") -> #REF! | AT2: =IF(#REF!>9,MID(#REF!,LEN(#REF!)-1,1)," ") -> #REF! | AU2: =IF(#REF!=""," ",RIGHT(#REF!,1)) -> #REF! | AV2: =IF(#REF!>999,LEFT(#REF!,1)," ") -> #REF! | AW2: =IF(#REF!>99,MID(#REF!,LEN(#REF!)-2,1)," ") -> #REF! | AX2: =IF(#REF!>9,MID(#REF!,LEN(#REF!)-1,1)," ") -> #REF! | AY2: =IF(#REF!=0," ",RIGHT(#REF!,1)) -> #REF! | AZ2: =IF(#REF!>99,LEFT(#REF!,1)," ") -> #REF! | BA2: =IF(#REF!>9,MID(#REF!,LEN(#REF!)-1,1)," ") -> #REF! | BB2: =IF(#REF!=0," ",RIGHT(#REF!,1)) -> #REF! | BC2: =IF(#REF!>99,LEFT(#REF!,1)," ") -> #REF! | BD2: =IF(#REF!>9,MID(#REF!,LEN(#REF!)-1,1)," ") -> #REF! | BE2: =IF(#REF!=0," ",RIGHT(#REF!,1)) -> #REF! | BF2: =IF(#REF!>99,LEFT(#REF!,1)," ") -> #REF! | BG2: =IF(#REF!>9,MID(#REF!,LEN(#REF!)-1,1)," ") -> #REF! | BH2: =IF(#REF!=0," ",RIGHT(#REF!,1)) -> #REF! | BI2: =IF(#REF!>99,LEFT(#REF!,1)," ") -> #REF! | BJ2: =IF(#REF!>9,MID(#REF!,LEN(#REF!)-1,1)," ") -> #REF! | BK2: =IF(#REF!=0," ",RIGHT(#REF!,1)) -> #REF! | BL2: =IF(#REF!>999,LEFT(#REF!,1)," ") -> #REF! | BM2: =IF(#REF!>99,MID(#REF!,LEN(#REF!)-2,1)," ") -> #REF! | BN2: =IF(#REF!>9,MID(#REF!,LEN(#REF!)-1,1)," ") -> #REF! | BO2: =IF(#REF!=0," ",RIGHT(#REF!,1)) -> #REF! | BQ2: =BR2&BS2&BT2 -> #REF! | BR2: =A2&B2&C2&D2&E2&F2&G2&H2&I2&J2&K2&L2&M2&N2&O2&P2&Q2&R2&S2&T2&U2&V2&W2&X2&Y2&Z2 -> #REF! | BS2: =AA2&AB2&AC2&AD2&AE2&AF2&AG2&AH2&AI2&AJ2&AK2&AL2&AM2&AN2&AO2&AP2&AQ2&AR2&AS2&AT2&AU2&AV2&AW2&AX2&AY2&AZ2 -> #REF! | BT2: =BA2&BB2&BC2&BD2&BE2&BF2&BG2&BH2&BI2&BJ2&BK2&BL2&BM2&BN2&BO2 -> #REF!
A3: =IF(#REF!=""," ",#REF!) -> #REF! | B3: =IF(#REF!=""," ",#REF!) -> #REF! | C3: =IF(#REF!=""," ",#REF!) -> #REF! | D3: =IF(#REF!>99,LEFT(#REF!,1)," ") -> #REF! | E3: =IF(#REF!>9,MID(#REF!,LEN(#REF!)-1,1)," ") -> #REF! | F3: =IF(#REF!=""," ",RIGHT(#REF!,1)) -> #REF! | G3: =IF(#REF!>99,LEFT(#REF!,1)," ") -> #REF! | H3: =IF(#REF!>9,MID(#REF!,LEN(#REF!)-1,1)," ") -> #REF! | I3: =IF(#REF!=""," ",RIGHT(#REF!,1)) -> #REF! | J3: =IF(#REF!>99,LEFT(#REF!,1)," ") -> #REF! | K3: =IF(#REF!>9,MID(#REF!,LEN(#REF!)-1,1)," ") -> #REF! | L3: =IF(#REF!=""," ",RIGHT(#REF!,1)) -> #REF! | M3: =IF(#REF!>99,LEFT(#REF!,1)," ") -> #REF! | N3: =IF(#REF!>9,MID(#REF!,LEN(#REF!)-1,1)," ") -> #REF! | O3: =IF(#REF!=""," ",RIGHT(#REF!,1)) -> #REF! | P3: =IF(#REF!>999,LEFT(#REF!,1)," ") -> #REF! | Q3: =IF(#REF!>99,MID(#REF!,LEN(#REF!)-2,1)," ") -> #REF! | R3: =IF(#REF!>9,MID(#REF!,LEN(#REF!)-1,1)," ") -> #REF! | S3: =IF(#REF!=0," ",RIGHT(#REF!,1)) -> #REF! | T3: =IF(#REF!>99,LEFT(#REF!,1)," ") -> #REF! | U3: =IF(#REF!>9,MID(#REF!,LEN(#REF!)-1,1)," ") -> #REF! | V3: =IF(#REF!=""," ",RIGHT(#REF!,1)) -> #REF! | W3: =IF(#REF!>99,LEFT(#REF!,1)," ") -> #REF! | X3: =IF(#REF!>9,MID(#REF!,LEN(#REF!)-1,1)," ") -> #REF! | Y3: =IF(#REF!=""," ",RIGHT(#REF!,1)) -> #REF! | Z3: =IF(#REF!>99,LEFT(#REF!,1)," ") -> #REF! | AA3: =IF(#REF!>9,MID(#REF!,LEN(#REF!)-1,1)," ") -> #REF! | AB3: =IF(#REF!=""," ",RIGHT(#REF!,1)) -> #REF! | AC3: =IF(#REF!>99,LEFT(#REF!,1)," ") -> #REF! | AD3: =IF(#REF!>9,MID(#REF!,LEN(#REF!)-1,1)," ") -> #REF! | AE3: =IF(#REF!=""," ",RIGHT(#REF!,1)) -> #REF! | AF3: =IF(#REF!>999,LEFT(#REF!,1)," ") -> #REF! | AG3: =IF(#REF!>99,MID(#REF!,LEN(#REF!)-2,1)," ") -> #REF! | AH3: =IF(#REF!>9,MID(#REF!,LEN(#REF!)-1,1)," ") -> #REF! | AI3: =IF(#REF!=0," ",RIGHT(#REF!,1)) -> #REF! | AJ3: =IF(#REF!>99,LEFT(#REF!,1)," ") -> #REF! | AK3: =IF(#REF!>9,MID(#REF!,LEN(#REF!)-1,1)," ") -> #REF! | AL3: =IF(#REF!=""," ",RIGHT(#REF!,1)) -> #REF! | AM3: =IF(#REF!>99,LEFT(#REF!,1)," ") -> #REF! | AN3: =IF(#REF!>9,MID(#REF!,LEN(#REF!)-1,1)," ") -> #REF! | AO3: =IF(#REF!=""," ",RIGHT(#REF!,1)) -> #REF! | AP3: =IF(#REF!>99,LEFT(#REF!,1)," ") -> #REF! | AQ3: =IF(#REF!>9,MID(#REF!,LEN(#REF!)-1,1)," ") -> #REF! | AR3: =IF(#REF!=""," ",RIGHT(#REF!,1)) -> #REF! | AS3: =IF(#REF!>99,LEFT(#REF!,1)," ") -> #REF! | AT3: =IF(#REF!>9,MID(#REF!,LEN(#REF!)-1,1)," ") -> #REF! | AU3: =IF(#REF!=""," ",RIGHT(#REF!,1)) -> #REF! | AV3: =IF(#REF!>999,LEFT(#REF!,1)," ") -> #REF! | AW3: =IF(#REF!>99,MID(#REF!,LEN(#REF!)-2,1)," ") -> #REF! | AX3: =IF(#REF!>9,MID(#REF!,LEN(#REF!)-1,1)," ") -> #REF! | AY3: =IF(#REF!=0," ",RIGHT(#REF!,1)) -> #REF! | AZ3: =IF(#REF!>99,LEFT(#REF!,1)," ") -> #REF! | BA3: =IF(#REF!>9,MID(#REF!,LEN(#REF!)-1,1)," ") -> #REF! | BB3: =IF(#REF!=0," ",RIGHT(#REF!,1)) -> #REF! | BC3: =IF(#REF!>99,LEFT(#REF!,1)," ") -> #REF! | BD3: =IF(#REF!>9,MID(#REF!,LEN(#REF!)-1,1)," ") -> #REF! | BE3: =IF(#REF!=0," ",RIGHT(#REF!,1)) -> #REF! | BF3: =IF(#REF!>99,LEFT(#REF!,1)," ") -> #REF! | BG3: =IF(#REF!>9,MID(#REF!,LEN(#REF!)-1,1)," ") -> #REF! | BH3: =IF(#REF!=0," ",RIGHT(#REF!,1)) -> #REF! | BI3: =IF(#REF!>99,LEFT(#REF!,1)," ") -> #REF! | BJ3: =IF(#REF!>9,MID(#REF!,LEN(#REF!)-1,1)," ") -> #REF! | BK3: =IF(#REF!=0," ",RIGHT(#REF!,1)) -> #REF! | BL3: =IF(#REF!>999,LEFT(#REF!,1)," ") -> #REF! | BM3: =IF(#REF!>99,MID(#REF!,LEN(#REF!)-2,1)," ") -> #REF! | BN3: =IF(#REF!>9,MID(#REF!,LEN(#REF!)-1,1)," ") -> #REF! | BO3: =IF(#REF!=0," ",RIGHT(#REF!,1)) -> #REF! | BQ3: =BR3&BS3&BT3 -> #REF! | BR3: =A3&B3&C3&D3&E3&F3&G3&H3&I3&J3&K3&L3&M3&N3&O3&P3&Q3&R3&S3&T3&U3&V3&W3&X3&Y3&Z3 -> #REF! | BS3: =AA3&AB3&AC3&AD3&AE3&AF3&AG3&AH3&AI3&AJ3&AK3&AL3&AM3&AN3&AO3&AP3&AQ3&AR3&AS3&AT3&AU3&AV3&AW3&AX3&AY3&AZ3 -> #REF! | BT3: =BA3&BB3&BC3&BD3&BE3&BF3&BG3&BH3&BI3&BJ3&BK3&BL3&BM3&BN3&BO3 -> #REF!
A4: =IF(#REF!=""," ",#REF!) -> #REF! | B4: =IF(#REF!=""," ",#REF!) -> #REF! | C4: =IF(#REF!=""," ",#REF!) -> #REF! | D4: =IF(#REF!>99,LEFT(#REF!,1)," ") -> #REF! | E4: =IF(#REF!>9,MID(#REF!,LEN(#REF!)-1,1)," ") -> #REF! | F4: =IF(#REF!=""," ",RIGHT(#REF!,1)) -> #REF! | G4: =IF(#REF!>99,LEFT(#REF!,1)," ") -> #REF! | H4: =IF(#REF!>9,MID(#REF!,LEN(#REF!)-1,1)," ") -> #REF! | I4: =IF(#REF!=""," ",RIGHT(#REF!,1)) -> #REF! | J4: =IF(#REF!>99,LEFT(#REF!,1)," ") -> #REF! | K4: =IF(#REF!>9,MID(#REF!,LEN(#REF!)-1,1)," ") -> #REF! | L4: =IF(#REF!=""," ",RIGHT(#REF!,1)) -> #REF! | M4: =IF(#REF!>99,LEFT(#REF!,1)," ") -> #REF! | N4: =IF(#REF!>9,MID(#REF!,LEN(#REF!)-1,1)," ") -> #REF! | O4: =IF(#REF!=""," ",RIGHT(#REF!,1)) -> #REF! | P4: =IF(#REF!>999,LEFT(#REF!,1)," ") -> #REF! | Q4: =IF(#REF!>99,MID(#REF!,LEN(#REF!)-2,1)," ") -> #REF! | R4: =IF(#REF!>9,MID(#REF!,LEN(#REF!)-1,1)," ") -> #REF! | S4: =IF(#REF!=0," ",RIGHT(#REF!,1)) -> #REF! | T4: =IF(#REF!>99,LEFT(#REF!,1)," ") -> #REF! | U4: =IF(#REF!>9,MID(#REF!,LEN(#REF!)-1,1)," ") -> #REF! | V4: =IF(#REF!=""," ",RIGHT(#REF!,1)) -> #REF! | W4: =IF(#REF!>99,LEFT(#REF!,1)," ") -> #REF! | X4: =IF(#REF!>9,MID(#REF!,LEN(#REF!)-1,1)," ") -> #REF! | Y4: =IF(#REF!=""," ",RIGHT(#REF!,1)) -> #REF! | Z4: =IF(#REF!>99,LEFT(#REF!,1)," ") -> #REF! | AA4: =IF(#REF!>9,MID(#REF!,LEN(#REF!)-1,1)," ") -> #REF! | AB4: =IF(#REF!=""," ",RIGHT(#REF!,1)) -> #REF! | AC4: =IF(#REF!>99,LEFT(#REF!,1)," ") -> #REF! | AD4: =IF(#REF!>9,MID(#REF!,LEN(#REF!)-1,1)," ") -> #REF! | AE4: =IF(#REF!=""," ",RIGHT(#REF!,1)) -> #REF! | AF4: =IF(#REF!>999,LEFT(#REF!,1)," ") -> #REF! | AG4: =IF(#REF!>99,MID(#REF!,LEN(#REF!)-2,1)," ") -> #REF! | AH4: =IF(#REF!>9,MID(#REF!,LEN(#REF!)-1,1)," ") -> #REF! | AI4: =IF(#REF!=0," ",RIGHT(#REF!,1)) -> #REF! | AJ4: =IF(#REF!>99,LEFT(#REF!,1)," ") -> #REF! | AK4: =IF(#REF!>9,MID(#REF!,LEN(#REF!)-1,1)," ") -> #REF! | AL4: =IF(#REF!=""," ",RIGHT(#REF!,1)) -> #REF! | AM4: =IF(#REF!>99,LEFT(#REF!,1)," ") -> #REF! | AN4: =IF(#REF!>9,MID(#REF!,LEN(#REF!)-1,1)," ") -> #REF! | AO4: =IF(#REF!=""," ",RIGHT(#REF!,1)) -> #REF! | AP4: =IF(#REF!>99,LEFT(#REF!,1)," ") -> #REF! | AQ4: =IF(#REF!>9,MID(#REF!,LEN(#REF!)-1,1)," ") -> #REF! | AR4: =IF(#REF!=""," ",RIGHT(#REF!,1)) -> #REF! | AS4: =IF(#REF!>99,LEFT(#REF!,1)," ") -> #REF! | AT4: =IF(#REF!>9,MID(#REF!,LEN(#REF!)-1,1)," ") -> #REF! | AU4: =IF(#REF!=""," ",RIGHT(#REF!,1)) -> #REF! | AV4: =IF(#REF!>999,LEFT(#REF!,1)," ") -> #REF! | AW4: =IF(#REF!>99,MID(#REF!,LEN(#REF!)-2,1)," ") -> #REF! | AX4: =IF(#REF!>9,MID(#REF!,LEN(#REF!)-1,1)," ") -> #REF! | AY4: =IF(#REF!=0," ",RIGHT(#REF!,1)) -> #REF! | AZ4: =IF(#REF!>99,LEFT(#REF!,1)," ") -> #REF! | BA4: =IF(#REF!>9,MID(#REF!,LEN(#REF!)-1,1)," ") -> #REF! | BB4: =IF(#REF!=0," ",RIGHT(#REF!,1)) -> #REF! | BC4: =IF(#REF!>99,LEFT(#REF!,1)," ") -> #REF! | BD4: =IF(#REF!>9,MID(#REF!,LEN(#REF!)-1,1)," ") -> #REF! | BE4: =IF(#REF!=0," ",RIGHT(#REF!,1)) -> #REF! | BF4: =IF(#REF!>99,LEFT(#REF!,1)," ") -> #REF! | BG4: =IF(#REF!>9,MID(#REF!,LEN(#REF!)-1,1)," ") -> #REF! | BH4: =IF(#REF!=0," ",RIGHT(#REF!,1)) -> #REF! | BI4: =IF(#REF!>99,LEFT(#REF!,1)," ") -> #REF! | BJ4: =IF(#REF!>9,MID(#REF!,LEN(#REF!)-1,1)," ") -> #REF! | BK4: =IF(#REF!=0," ",RIGHT(#REF!,1)) -> #REF! | BL4: =IF(#REF!>999,LEFT(#REF!,1)," ") -> #REF! | BM4: =IF(#REF!>99,MID(#REF!,LEN(#REF!)-2,1)," ") -> #REF! | BN4: =IF(#REF!>9,MID(#REF!,LEN(#REF!)-1,1)," ") -> #REF! | BO4: =IF(#REF!=0," ",RIGHT(#REF!,1)) -> #REF! | BQ4: =BR4&BS4&BT4 -> #REF! | BR4: =A4&B4&C4&D4&E4&F4&G4&H4&I4&J4&K4&L4&M4&N4&O4&P4&Q4&R4&S4&T4&U4&V4&W4&X4&Y4&Z4 -> #REF! | BS4: =AA4&AB4&AC4&AD4&AE4&AF4&AG4&AH4&AI4&AJ4&AK4&AL4&AM4&AN4&AO4&AP4&AQ4&AR4&AS4&AT4&AU4&AV4&AW4&AX4&AY4&AZ4 -> #REF! | BT4: =BA4&BB4&BC4&BD4&BE4&BF4&BG4&BH4&BI4&BJ4&BK4&BL4&BM4&BN4&BO4 -> #REF!
A5: =IF(#REF!=""," ",#REF!) -> #REF! | B5: =IF(#REF!=""," ",#REF!) -> #REF! | C5: =IF(#REF!=""," ",#REF!) -> #REF! | D5: =IF(#REF!>99,LEFT(#REF!,1)," ") -> #REF! | E5: =IF(#REF!>9,MID(#REF!,LEN(#REF!)-1,1)," ") -> #REF! | F5: =IF(#REF!=""," ",RIGHT(#REF!,1)) -> #REF! | G5: =IF(#REF!>99,LEFT(#REF!,1)," ") -> #REF! | H5: =IF(#REF!>9,MID(#REF!,LEN(#REF!)-1,1)," ") -> #REF! | I5: =IF(#REF!=""," ",RIGHT(#REF!,1)) -> #REF! | J5: =IF(#REF!>99,LEFT(#REF!,1)," ") -> #REF! | K5: =IF(#REF!>9,MID(#REF!,LEN(#REF!)-1,1)," ") -> #REF! | L5: =IF(#REF!=""," ",RIGHT(#REF!,1)) -> #REF! | M5: =IF(#REF!>99,LEFT(#REF!,1)," ") -> #REF! | N5: =IF(#REF!>9,MID(#REF!,LEN(#REF!)-1,1)," ") -> #REF! | O5: =IF(#REF!=""," ",RIGHT(#REF!,1)) -> #REF! | P5: =IF(#REF!>999,LEFT(#REF!,1)," ") -> #REF! | Q5: =IF(#REF!>99,MID(#REF!,LEN(#REF!)-2,1)," ") -> #REF! | R5: =IF(#REF!>9,MID(#REF!,LEN(#REF!)-1,1)," ") -> #REF! | S5: =IF(#REF!=0," ",RIGHT(#REF!,1)) -> #REF! | T5: =IF(#REF!>99,LEFT(#REF!,1)," ") -> #REF! | U5: =IF(#REF!>9,MID(#REF!,LEN(#REF!)-1,1)," ") -> #REF! | V5: =IF(#REF!=""," ",RIGHT(#REF!,1)) -> #REF! | W5: =IF(#REF!>99,LEFT(#REF!,1)," ") -> #REF! | X5: =IF(#REF!>9,MID(#REF!,LEN(#REF!)-1,1)," ") -> #REF! | Y5: =IF(#REF!=""," ",RIGHT(#REF!,1)) -> #REF! | Z5: =IF(#REF!>99,LEFT(#REF!,1)," ") -> #REF! | AA5: =IF(#REF!>9,MID(#REF!,LEN(#REF!)-1,1)," ") -> #REF! | AB5: =IF(#REF!=""," ",RIGHT(#REF!,1)) -> #REF! | AC5: =IF(#REF!>99,LEFT(#REF!,1)," ") -> #REF! | AD5: =IF(#REF!>9,MID(#REF!,LEN(#REF!)-1,1)," ") -> #REF! | AE5: =IF(#REF!=""," ",RIGHT(#REF!,1)) -> #REF! | AF5: =IF(#REF!>999,LEFT(#REF!,1)," ") -> #REF! | AG5: =IF(#REF!>99,MID(#REF!,LEN(#REF!)-2,1)," ") -> #REF! | AH5: =IF(#REF!>9,MID(#REF!,LEN(#REF!)-1,1)," ") -> #REF! | AI5: =IF(#REF!=0," ",RIGHT(#REF!,1)) -> #REF! | AJ5: =IF(#REF!>99,LEFT(#REF!,1)," ") -> #REF! | AK5: =IF(#REF!>9,MID(#REF!,LEN(#REF!)-1,1)," ") -> #REF! | AL5: =IF(#REF!=""," ",RIGHT(#REF!,1)) -> #REF! | AM5: =IF(#REF!>99,LEFT(#REF!,1)," ") -> #REF! | AN5: =IF(#REF!>9,MID(#REF!,LEN(#REF!)-1,1)," ") -> #REF! | AO5: =IF(#REF!=""," ",RIGHT(#REF!,1)) -> #REF! | AP5: =IF(#REF!>99,LEFT(#REF!,1)," ") -> #REF! | AQ5: =IF(#REF!>9,MID(#REF!,LEN(#REF!)-1,1)," ") -> #REF! | AR5: =IF(#REF!=""," ",RIGHT(#REF!,1)) -> #REF! | AS5: =IF(#REF!>99,LEFT(#REF!,1)," ") -> #REF! | AT5: =IF(#REF!>9,MID(#REF!,LEN(#REF!)-1,1)," ") -> #REF! | AU5: =IF(#REF!=""," ",RIGHT(#REF!,1)) -> #REF! | AV5: =IF(#REF!>999,LEFT(#REF!,1)," ") -> #REF! | AW5: =IF(#REF!>99,MID(#REF!,LEN(#REF!)-2,1)," ") -> #REF! | AX5: =IF(#REF!>9,MID(#REF!,LEN(#REF!)-1,1)," ") -> #REF! | AY5: =IF(#REF!=0," ",RIGHT(#REF!,1)) -> #REF! | AZ5: =IF(#REF!>99,LEFT(#REF!,1)," ") -> #REF! | BA5: =IF(#REF!>9,MID(#REF!,LEN(#REF!)-1,1)," ") -> #REF! | BB5: =IF(#REF!=0," ",RIGHT(#REF!,1)) -> #REF! | BC5: =IF(#REF!>99,LEFT(#REF!,1)," ") -> #REF! | BD5: =IF(#REF!>9,MID(#REF!,LEN(#REF!)-1,1)," ") -> #REF! | BE5: =IF(#REF!=0," ",RIGHT(#REF!,1)) -> #REF! | BF5: =IF(#REF!>99,LEFT(#REF!,1)," ") -> #REF! | BG5: =IF(#REF!>9,MID(#REF!,LEN(#REF!)-1,1)," ") -> #REF! | BH5: =IF(#REF!=0," ",RIGHT(#REF!,1)) -> #REF! | BI5: =IF(#REF!>99,LEFT(#REF!,1)," ") -> #REF! | BJ5: =IF(#REF!>9,MID(#REF!,LEN(#REF!)-1,1)," ") -> #REF! | BK5: =IF(#REF!=0," ",RIGHT(#REF!,1)) -> #REF! | BL5: =IF(#REF!>999,LEFT(#REF!,1)," ") -> #REF! | BM5: =IF(#REF!>99,MID(#REF!,LEN(#REF!)-2,1)," ") -> #REF! | BN5: =IF(#REF!>9,MID(#REF!,LEN(#REF!)-1,1)," ") -> #REF! | BO5: =IF(#REF!=0," ",RIGHT(#REF!,1)) -> #REF! | BQ5: =BR5&BS5&BT5 -> #REF! | BR5: =A5&B5&C5&D5&E5&F5&G5&H5&I5&J5&K5&L5&M5&N5&O5&P5&Q5&R5&S5&T5&U5&V5&W5&X5&Y5&Z5 -> #REF! | BS5: =AA5&AB5&AC5&AD5&AE5&AF5&AG5&AH5&AI5&AJ5&AK5&AL5&AM5&AN5&AO5&AP5&AQ5&AR5&AS5&AT5&AU5&AV5&AW5&AX5&AY5&AZ5 -> #REF! | BT5: =BA5&BB5&BC5&BD5&BE5&BF5&BG5&BH5&BI5&BJ5&BK5&BL5&BM5&BN5&BO5 -> #REF!
A6: =IF(#REF!=""," ",#REF!) -> #REF! | B6: =IF(#REF!=""," ",#REF!) -> #REF! | C6: =IF(#REF!=""," ",#REF!) -> #REF! | D6: =IF(#REF!>99,LEFT(#REF!,1)," ") -> #REF! | E6: =IF(#REF!>9,MID(#REF!,LEN(#REF!)-1,1)," ") -> #REF! | F6: =IF(#REF!=""," ",RIGHT(#REF!,1)) -> #REF! | G6: =IF(#REF!>99,LEFT(#REF!,1)," ") -> #REF! | H6: =IF(#REF!>9,MID(#REF!,LEN(#REF!)-1,1)," ") -> #REF! | I6: =IF(#REF!=""," ",RIGHT(#REF!,1)) -> #REF! | J6: =IF(#REF!>99,LEFT(#REF!,1)," ") -> #REF! | K6: =IF(#REF!>9,MID(#REF!,LEN(#REF!)-1,1)," ") -> #REF! | L6: =IF(#REF!=""," ",RIGHT(#REF!,1)) -> #REF! | M6: =IF(#REF!>99,LEFT(#REF!,1)," ") -> #REF! | N6: =IF(#REF!>9,MID(#REF!,LEN(#REF!)-1,1)," ") -> #REF! | O6: =IF(#REF!=""," ",RIGHT(#REF!,1)) -> #REF! | P6: =IF(#REF!>999,LEFT(#REF!,1)," ") -> #REF! | Q6: =IF(#REF!>99,MID(#REF!,LEN(#REF!)-2,1)," ") -> #REF! | R6: =IF(#REF!>9,MID(#REF!,LEN(#REF!)-1,1)," ") -> #REF! | S6: =IF(#REF!=0," ",RIGHT(#REF!,1)) -> #REF! | T6: =IF(#REF!>99,LEFT(#REF!,1)," ") -> #REF! | U6: =IF(#REF!>9,MID(#REF!,LEN(#REF!)-1,1)," ") -> #REF! | V6: =IF(#REF!=""," ",RIGHT(#REF!,1)) -> #REF! | W6: =IF(#REF!>99,LEFT(#REF!,1)," ") -> #REF! | X6: =IF(#REF!>9,MID(#REF!,LEN(#REF!)-1,1)," ") -> #REF! | Y6: =IF(#REF!=""," ",RIGHT(#REF!,1)) -> #REF! | Z6: =IF(#REF!>99,LEFT(#REF!,1)," ") -> #REF! | AA6: =IF(#REF!>9,MID(#REF!,LEN(#REF!)-1,1)," ") -> #REF! | AB6: =IF(#REF!=""," ",RIGHT(#REF!,1)) -> #REF! | AC6: =IF(#REF!>99,LEFT(#REF!,1)," ") -> #REF! | AD6: =IF(#REF!>9,MID(#REF!,LEN(#REF!)-1,1)," ") -> #REF! | AE6: =IF(#REF!=""," ",RIGHT(#REF!,1)) -> #REF! | AF6: =IF(#REF!>999,LEFT(#REF!,1)," ") -> #REF! | AG6: =IF(#REF!>99,MID(#REF!,LEN(#REF!)-2,1)," ") -> #REF! | AH6: =IF(#REF!>9,MID(#REF!,LEN(#REF!)-1,1)," ") -> #REF! | AI6: =IF(#REF!=0," ",RIGHT(#REF!,1)) -> #REF! | AJ6: =IF(#REF!>99,LEFT(#REF!,1)," ") -> #REF! | AK6: =IF(#REF!>9,MID(#REF!,LEN(#REF!)-1,1)," ") -> #REF! | AL6: =IF(#REF!=""," ",RIGHT(#REF!,1)) -> #REF! | AM6: =IF(#REF!>99,LEFT(#REF!,1)," ") -> #REF! | AN6: =IF(#REF!>9,MID(#REF!,LEN(#REF!)-1,1)," ") -> #REF! | AO6: =IF(#REF!=""," ",RIGHT(#REF!,1)) -> #REF! | AP6: =IF(#REF!>99,LEFT(#REF!,1)," ") -> #REF! | AQ6: =IF(#REF!>9,MID(#REF!,LEN(#REF!)-1,1)," ") -> #REF! | AR6: =IF(#REF!=""," ",RIGHT(#REF!,1)) -> #REF! | AS6: =IF(#REF!>99,LEFT(#REF!,1)," ") -> #REF! | AT6: =IF(#REF!>9,MID(#REF!,LEN(#REF!)-1,1)," ") -> #REF! | AU6: =IF(#REF!=""," ",RIGHT(#REF!,1)) -> #REF! | AV6: =IF(#REF!>999,LEFT(#REF!,1)," ") -> #REF! | AW6: =IF(#REF!>99,MID(#REF!,LEN(#REF!)-2,1)," ") -> #REF! | AX6: =IF(#REF!>9,MID(#REF!,LEN(#REF!)-1,1)," ") -> #REF! | AY6: =IF(#REF!=0," ",RIGHT(#REF!,1)) -> #REF! | AZ6: =IF(#REF!>99,LEFT(#REF!,1)," ") -> #REF! | BA6: =IF(#REF!>9,MID(#REF!,LEN(#REF!)-1,1)," ") -> #REF! | BB6: =IF(#REF!=0," ",RIGHT(#REF!,1)) -> #REF! | BC6: =IF(#REF!>99,LEFT(#REF!,1)," ") -> #REF! | BD6: =IF(#REF!>9,MID(#REF!,LEN(#REF!)-1,1)," ") -> #REF! | BE6: =IF(#REF!=0," ",RIGHT(#REF!,1)) -> #REF! | BF6: =IF(#REF!>99,LEFT(#REF!,1)," ") -> #REF! | BG6: =IF(#REF!>9,MID(#REF!,LEN(#REF!)-1,1)," ") -> #REF! | BH6: =IF(#REF!=0," ",RIGHT(#REF!,1)) -> #REF! | BI6: =IF(#REF!>99,LEFT(#REF!,1)," ") -> #REF! | BJ6: =IF(#REF!>9,MID(#REF!,LEN(#REF!)-1,1)," ") -> #REF! | BK6: =IF(#REF!=0," ",RIGHT(#REF!,1)) -> #REF! | BL6: =IF(#REF!>999,LEFT(#REF!,1)," ") -> #REF! | BM6: =IF(#REF!>99,MID(#REF!,LEN(#REF!)-2,1)," ") -> #REF! | BN6: =IF(#REF!>9,MID(#REF!,LEN(#REF!)-1,1)," ") -> #REF! | BO6: =IF(#REF!=0," ",RIGHT(#REF!,1)) -> #REF! | BQ6: =BR6&BS6&BT6 -> #REF! | BR6: =A6&B6&C6&D6&E6&F6&G6&H6&I6&J6&K6&L6&M6&N6&O6&P6&Q6&R6&S6&T6&U6&V6&W6&X6&Y6&Z6 -> #REF! | BS6: =AA6&AB6&AC6&AD6&AE6&AF6&AG6&AH6&AI6&AJ6&AK6&AL6&AM6&AN6&AO6&AP6&AQ6&AR6&AS6&AT6&AU6&AV6&AW6&AX6&AY6&AZ6 -> #REF! | BT6: =BA6&BB6&BC6&BD6&BE6&BF6&BG6&BH6&BI6&BJ6&BK6&BL6&BM6&BN6&BO6 -> #REF!
A7: =IF(#REF!=""," ",#REF!) -> #REF! | B7: =IF(#REF!=""," ",#REF!) -> #REF! | C7: =IF(#REF!=""," ",#REF!) -> #REF! | D7: =IF(#REF!>99,LEFT(#REF!,1)," ") -> #REF! | E7: =IF(#REF!>9,MID(#REF!,LEN(#REF!)-1,1)," ") -> #REF! | F7: =IF(#REF!=""," ",RIGHT(#REF!,1)) -> #REF! | G7: =IF(#REF!>99,LEFT(#REF!,1)," ") -> #REF! | H7: =IF(#REF!>9,MID(#REF!,LEN(#REF!)-1,1)," ") -> #REF! | I7: =IF(#REF!=""," ",RIGHT(#REF!,1)) -> #REF! | J7: =IF(#REF!>99,LEFT(#REF!,1)," ") -> #REF! | K7: =IF(#REF!>9,MID(#REF!,LEN(#REF!)-1,1)," ") -> #REF! | L7: =IF(#REF!=""," ",RIGHT(#REF!,1)) -> #REF! | M7: =IF(#REF!>99,LEFT(#REF!,1)," ") -> #REF! | N7: =IF(#REF!>9,MID(#REF!,LEN(#REF!)-1,1)," ") -> #REF! | O7: =IF(#REF!=""," ",RIGHT(#REF!,1)) -> #REF! | P7: =IF(#REF!>999,LEFT(#REF!,1)," ") -> #REF! | Q7: =IF(#REF!>99,MID(#REF!,LEN(#REF!)-2,1)," ") -> #REF! | R7: =IF(#REF!>9,MID(#REF!,LEN(#REF!)-1,1)," ") -> #REF! | S7: =IF(#REF!=0," ",RIGHT(#REF!,1)) -> #REF! | T7: =IF(#REF!>99,LEFT(#REF!,1)," ") -> #REF! | U7: =IF(#REF!>9,MID(#REF!,LEN(#REF!)-1,1)," ") -> #REF! | V7: =IF(#REF!=""," ",RIGHT(#REF!,1)) -> #REF! | W7: =IF(#REF!>99,LEFT(#REF!,1)," ") -> #REF! | X7: =IF(#REF!>9,MID(#REF!,LEN(#REF!)-1,1)," ") -> #REF! | Y7: =IF(#REF!=""," ",RIGHT(#REF!,1)) -> #REF! | Z7: =IF(#REF!>99,LEFT(#REF!,1)," ") -> #REF! | AA7: =IF(#REF!>9,MID(#REF!,LEN(#REF!)-1,1)," ") -> #REF! | AB7: =IF(#REF!=""," ",RIGHT(#REF!,1)) -> #REF! | AC7: =IF(#REF!>99,LEFT(#REF!,1)," ") -> #REF! | AD7: =IF(#REF!>9,MID(#REF!,LEN(#REF!)-1,1)," ") -> #REF! | AE7: =IF(#REF!=""," ",RIGHT(#REF!,1)) -> #REF! | AF7: =IF(#REF!>999,LEFT(#REF!,1)," ") -> #REF! | AG7: =IF(#REF!>99,MID(#REF!,LEN(#REF!)-2,1)," ") -> #REF! | AH7: =IF(#REF!>9,MID(#REF!,LEN(#REF!)-1,1)," ") -> #REF! | AI7: =IF(#REF!=0," ",RIGHT(#REF!,1)) -> #REF! | AJ7: =IF(#REF!>99,LEFT(#REF!,1)," ") -> #REF! | AK7: =IF(#REF!>9,MID(#REF!,LEN(#REF!)-1,1)," ") -> #REF! | AL7: =IF(#REF!=""," ",RIGHT(#REF!,1)) -> #REF! | AM7: =IF(#REF!>99,LEFT(#REF!,1)," ") -> #REF! | AN7: =IF(#REF!>9,MID(#REF!,LEN(#REF!)-1,1)," ") -> #REF! | AO7: =IF(#REF!=""," ",RIGHT(#REF!,1)) -> #REF! | AP7: =IF(#REF!>99,LEFT(#REF!,1)," ") -> #REF! | AQ7: =IF(#REF!>9,MID(#REF!,LEN(#REF!)-1,1)," ") -> #REF! | AR7: =IF(#REF!=""," ",RIGHT(#REF!,1)) -> #REF! | AS7: =IF(#REF!>99,LEFT(#REF!,1)," ") -> #REF! | AT7: =IF(#REF!>9,MID(#REF!,LEN(#REF!)-1,1)," ") -> #REF! | AU7: =IF(#REF!=""," ",RIGHT(#REF!,1)) -> #REF! | AV7: =IF(#REF!>999,LEFT(#REF!,1)," ") -> #REF! | AW7: =IF(#REF!>99,MID(#REF!,LEN(#REF!)-2,1)," ") -> #REF! | AX7: =IF(#REF!>9,MID(#REF!,LEN(#REF!)-1,1)," ") -> #REF! | AY7: =IF(#REF!=0," ",RIGHT(#REF!,1)) -> #REF! | AZ7: =IF(#REF!>99,LEFT(#REF!,1)," ") -> #REF! | BA7: =IF(#REF!>9,MID(#REF!,LEN(#REF!)-1,1)," ") -> #REF! | BB7: =IF(#REF!=0," ",RIGHT(#REF!,1)) -> #REF! | BC7: =IF(#REF!>99,LEFT(#REF!,1)," ") -> #REF! | BD7: =IF(#REF!>9,MID(#REF!,LEN(#REF!)-1,1)," ") -> #REF! | BE7: =IF(#REF!=0," ",RIGHT(#REF!,1)) -> #REF! | BF7: =IF(#REF!>99,LEFT(#REF!,1)," ") -> #REF! | BG7: =IF(#REF!>9,MID(#REF!,LEN(#REF!)-1,1)," ") -> #REF! | BH7: =IF(#REF!=0," ",RIGHT(#REF!,1)) -> #REF! | BI7: =IF(#REF!>99,LEFT(#REF!,1)," ") -> #REF! | BJ7: =IF(#REF!>9,MID(#REF!,LEN(#REF!)-1,1)," ") -> #REF! | BK7: =IF(#REF!=0," ",RIGHT(#REF!,1)) -> #REF! | BL7: =IF(#REF!>999,LEFT(#REF!,1)," ") -> #REF! | BM7: =IF(#REF!>99,MID(#REF!,LEN(#REF!)-2,1)," ") -> #REF! | BN7: =IF(#REF!>9,MID(#REF!,LEN(#REF!)-1,1)," ") -> #REF! | BO7: =IF(#REF!=0," ",RIGHT(#REF!,1)) -> #REF! | BQ7: =BR7&BS7&BT7 -> #REF! | BR7: =A7&B7&C7&D7&E7&F7&G7&H7&I7&J7&K7&L7&M7&N7&O7&P7&Q7&R7&S7&T7&U7&V7&W7&X7&Y7&Z7 -> #REF! | BS7: =AA7&AB7&AC7&AD7&AE7&AF7&AG7&AH7&AI7&AJ7&AK7&AL7&AM7&AN7&AO7&AP7&AQ7&AR7&AS7&AT7&AU7&AV7&AW7&AX7&AY7&AZ7 -> #REF! | BT7: =BA7&BB7&BC7&BD7&BE7&BF7&BG7&BH7&BI7&BJ7&BK7&BL7&BM7&BN7&BO7 -> #REF!

Sheet output_data2
A1: =data2!BQ2 -> #REF!
A2: =data2!BQ3 -> #REF!
A3: =data2!BQ4 -> #REF!
A4: =data2!BQ5 -> #REF!
A5: =data2!BQ6 -> #REF!
A6: =data2!BQ7 -> #REF!

Sheet 28
A1: 28 中学校、義務教育学校、中等教育学校（前期課程）卒業・修了者の状況
A3: 区 分 | B3: 学校数 | C3: 卒 業 者 | F3: 進 学 者 | L3: 専修学校等入学者 | R3: 就 職 者 | U3: 死亡・不詳・その他 | X3: 進学率
I4: （内）就職進学者 | O4: （内）就職入学者
C5: 計 | D5: 男 | E5: 女 | F5: 計 | G5: 男 | H5: 女 | I5: 計 | J5: 男 | K5: 女 | L5: 計 | M5: 男 | N5: 女 | O5: 計 | P5: 男 | Q5: 女 | R5: 計 | S5: 男 | T5: 女 | U5: 計 | V5: 男 | W5: 女 | X5: （％）
A6: 中学校
A7: 05 | B7: 257 | C7: 25143 | D7: 12895 | E7: 12248 | F7: 24848 | G7: 12742 | H7: 12106 | I7: 1 | J7: 1 | K7: 0 | L7: 104 | M7: 37 | N7: 67 | O7: 0 | P7: 0 | Q7: 0 | R7: 34 | S7: 26 | T7: 8 | U7: 157 | V7: 90 | W7: 67 | X7: 98.8
A8: 06 | B8: 254 | C8: 24987 | D8: 12628 | E8: 12359 | F8: 24639 | G8: 12453 | H8: 12186 | I8: 1 | J8: 1 | K8: 0 | L8: 107 | M8: 42 | N8: 65 | O8: 0 | P8: 0 | Q8: 0 | R8: 44 | S8: 32 | T8: 12 | U8: 197 | V8: 101 | W8: 96 | X8: 98.6
A9: 07 | B9: =SUM(B50:B52) -> 252 | C9: =SUM(C50:C52) -> 24878 | D9: =SUM(D50:D52) -> 12798 | E9: =SUM(E50:E52) -> 12080 | F9: =SUM(F50:F52) -> 24541 | G9: =SUM(G50:G52) -> 12608 | H9: =SUM(H50:H52) -> 11933 | I9: =SUM(I50:I52) -> 0 | ... W9: =SUM(W50:W52) -> 77 | X9: =ROUND(F9/C9*100,1) -> 98.6
A11: 県立学校 | B11: 3 | C11: =SUM(D11:E11) -> 272 | D11: 108 | E11: 164 | F11: =SUM(G11:H11) -> 272 | G11: 108 | H11: 164 | I11: =SUM(J11:K11) -> 0 | J11: 0 | K11: 0 | L11: =SUM(M11:N11) -> 0 | M11: 0 | N11: 0 | O11: =SUM(P11:Q11) -> 0 | P11: 0 | Q11: 0 | R11: =SUM(S11:T11) -> 0 | S11: 0 | T11: 0 | U11: =SUM(V11:W11) -> 0 | V11: 0 | W11: 0 | X11: =ROUND(F11/C11*100,1) -> 100
A13: 公立中学校
A14: 広島市 | B14: 63 | C14: =SUM(D14:E14) -> 9440 | D14: 4852 | E14: 4588 | F14: =SUM(G14:H14) -> 9295 | G14: 4765 | H14: 4530 | I14: =SUM(J14:K14) -> 0 | J14: 0 | K14: 0 | L14: =SUM(M14:N14) -> 50 | M14: 21 | N14: 29 | O14: =SUM(P14:Q14) -> 0 | P14: 0 | Q14: 0 | R14: =SUM(S14:T14) -> 30 | S14: 23 | T14: 7 | U14: =SUM(V14:W14) -> 65 | V14: 43 | W14: 22 | X14: =ROUND(F14/C14*100,1) -> 98.5
A15: 福山市 | B15: 30 | C15: =SUM(D15:E15) -> 3628 | D15: 1818 | E15: 1810 | F15: =SUM(G15:H15) -> 3577 | G15: 1793 | H15: 1784 | I15: =SUM(J15:K15) -> 0 | J15: 0 | K15: 0 | L15: =SUM(M15:N15) -> 2 | M15: 0 | N15: 2 | O15: =SUM(P15:Q15) -> 0 | P15: 0 | Q15: 0 | R15: =SUM(S15:T15) -> 13 | S15: 9 | T15: 4 | U15: 36 | V15: 16 | W15: 20 | X15: =ROUND(F15/C15*100,1) -> 98.6
A17: 西部教育事務所
A18: 呉市 | B18: 24 | C18: =SUM(D18:E18) -> 1597 | D18: 825 | E18: 772 | F18: =SUM(G18:H18) -> 1560 | G18: 800 | H18: 760 | I18: =SUM(J18:K18) -> 0 | J18: 0 | K18: 0 | L18: =SUM(M18:N18) -> 13 | M18: 8 | N18: 5 | O18: =SUM(P18:Q18) -> 0 | P18: 0 | Q18: 0 | R18: =SUM(S18:T18) -> 6 | S18: 6 | T18: 0 | U18: =SUM(V18:W18) -> 18 | V18: 11 | W18: 7 | X18: =ROUND(F18/C18*100,1) -> 97.7
A19: 竹原市 | B19: 2 | C19: =SUM(D19:E19) -> 120 | D19: 59 | E19: 61 | F19: =SUM(G19:H19) -> 120 | G19: 59 | H19: 61 | I19: =SUM(J19:K19) -> 0 | J19: 0 | K19: 0 | L19: =SUM(M19:N19) -> 0 | M19: 0 | N19: 0 | O19: =SUM(P19:Q19) -> 0 | P19: 0 | Q19: 0 | R19: =SUM(S19:T19) -> 0 | S19: 0 | T19: 0 | U19: =SUM(V19:W19) -> 0 | V19: 0 | W19: 0 | X19: =ROUND(F19/C19*100,1) -> 100
A20: 大竹市 | B20: 3 | C20: =SUM(D20:E20) -> 196 | D20: 101 | E20: 95 | F20: =SUM(G20:H20) -> 191 | G20: 100 | H20: 91 | I20: =SUM(J20:K20) -> 0 | J20: 0 | K20: 0 | L20: =SUM(M20:N20) -> 4 | M20: 1 | N20: 3 | O20: =SUM(P20:Q20) -> 0 | P20: 0 | Q20: 0 | R20: =SUM(S20:T20) -> 0 | S20: 0 | T20: 0 | U20: =SUM(V20:W20) -> 1 | V20: 0 | W20: 1 | X20: =ROUND(F20/C20*100,1) -> 97.4
A21: 東広島市 | B21: 15 | C21: =SUM(D21:E21) -> 1698 | D21: 907 | E21: 791 | F21: =SUM(G21:H21) -> 1668 | G21: 896 | H21: 772 | I21: =SUM(J21:K21) -> 0 | J21: 0 | K21: 0 | L21: =SUM(M21:N21) -> 5 | M21: 0 | N21: 5 | O21: =SUM(P21:Q21) -> 0 | P21: 0 | Q21: 0 | R21: =SUM(S21:T21) -> 3 | S21: 2 | T21: 1 | U21: =SUM(V21:W21) -> 22 | V21: 9 | W21: 13 | X21: =ROUND(F21/C21*100,1) -> 98.2
A22: 廿日市市 | B22: 10 | C22: =SUM(D22:E22) -> 1001 | D22: 540 | E22: 461 | F22: =SUM(G22:H22) -> 988 | G22: 533 | H22: 455 | I22: =SUM(J22:K22) -> 0 | J22: 0 | K22: 0 | L22: =SUM(M22:N22) -> 5 | M22: 2 | N22: 3 | O22: =SUM(P22:Q22) -> 0 | P22: 0 | Q22: 0 | R22: =SUM(S22:T22) -> 1 | S22: 1 | T22: 0 | U22: =SUM(V22:W22) -> 7 | V22: 4 | W22: 3 | X22: =ROUND(F22/C22*100,1) -> 98.7
A23: 江田島市 | B23: 3 | C23: =SUM(D23:E23) -> 126 | D23: 80 | E23: 46 | F23: =SUM(G23:H23) -> 123 | G23: 77 | H23: 46 | I23: =SUM(J23:K23) -> 0 | J23: 0 | K23: 0 | L23: =SUM(M23:N23) -> 1 | M23: 1 | N23: 0 | O23: =SUM(P23:Q23) -> 0 | P23: 0 | Q23: 0 | R23: =SUM(S23:T23) -> 1 | S23: 1 | T23: 0 | U23: =SUM(V23:W23) -> 1 | V23: 1 | W23: 0 | X23: =ROUND(F23/C23*100,1) -> 97.6
A24: 府中町 | B24: 2 | C24: =SUM(D24:E24) -> 398 | D24: 211 | E24: 187 | F24: =SUM(G24:H24) -> 393 | G24: 209 | H24: 184 | I24: =SUM(J24:K24) -> 0 | J24: 0 | K24: 0 | L24: =SUM(M24:N24) -> 3 | M24: 1 | N24: 2 | O24: =SUM(P24:Q24) -> 0 | P24: 0 | Q24: 0 | R24: =SUM(S24:T24) -> 1 | S24: 1 | T24: 0 | U24: =SUM(V24:W24) -> 1 | V24: 0 | W24: 1 | X24: =ROUND(F24/C24*100,1) -> 98.7
A25: 海田町 | B25: 2 | C25: =SUM(D25:E25) -> 241 | D25: 127 | E25: 114 | F25: =SUM(G25:H25) -> 239 | G25: 125 | H25: 114 | I25: =SUM(J25:K25) -> 0 | J25: 0 | K25: 0 | L25: =SUM(M25:N25) -> 0 | M25: 0 | N25: 0 | O25: =SUM(P25:Q25) -> 0 | P25: 0 | Q25: 0 | R25: =SUM(S25:T25) -> 1 | S25: 1 | T25: 0 | U25: =SUM(V25:W25) -> 1 | V25: 1 | W25: 0 | X25: =ROUND(F25/C25*100,1) -> 99.2
A26: 熊野町 | B26: 2 | C26: =SUM(D26:E26) -> 219 | D26: 91 | E26: 128 | F26: =SUM(G26:H26) -> 215 | G26: 89 | H26: 126 | I26: =SUM(J26:K26) -> 0 | J26: 0 | K26: 0 | L26: =SUM(M26:N26) -> 3 | M26: 2 | N26: 1 | O26: =SUM(P26:Q26) -> 0 | P26: 0 | Q26: 0 | R26: =SUM(S26:T26) -> 1 | S26: 0 | T26: 1 | U26: =SUM(V26:W26) -> 0 | V26: 0 | W26: 0 | X26: =ROUND(F26/C26*100,1) -> 98.2
A27: 坂町 | B27: 1 | C27: =SUM(D27:E27) -> 122 | D27: 58 | E27: 64 | F27: =SUM(G27:H27) -> 122 | G27: 58 | H27: 64 | I27: =SUM(J27:K27) -> 0 | J27: 0 | K27: 0 | L27: =SUM(M27:N27) -> 0 | M27: 0 | N27: 0 | O27: =SUM(P27:Q27) -> 0 | P27: 0 | Q27: 0 | R27: =SUM(S27:T27) -> 0 | S27: 0 | T27: 0 | U27: =SUM(V27:W27) -> 0 | V27: 0 | W27: 0 | X27: =ROUND(F27/C27*100,1) -> 100
A28: 大崎上島町 | B28: 1 | C28: =SUM(D28:E28) -> 27 | D28: 14 | E28: 13 | F28: =SUM(G28:H28) -> 25 | G28: 13 | H28: 12 | I28: =SUM(J28:K28) -> 0 | J28: 0 | K28: 0 | L28: =SUM(M28:N28) -> 0 | M28: 0 | N28: 0 | O28: =SUM(P28:Q28) -> 0 | P28: 0 | Q28: 0 | R28: =SUM(S28:T28) -> 1 | S28: 1 | T28: 0 | U28: =SUM(V28:W28) -> 1 | V28: 0 | W28: 1 | X28: =ROUND(F28/C28*100,1) -> 92.6
A29: 計 | B29: =SUM(B18:B28) -> 65 | C29: =SUM(C18:C28) -> 5745 | D29: =SUM(D18:D28) -> 3013 | E29: =SUM(E18:E28) -> 2732 | F29: =SUM(F18:F28) -> 5644 | G29: =SUM(G18:G28) -> 2959 | H29: =SUM(H18:H28) -> 2685 | I29: =SUM(I18:I28) -> 0 | ... W29: =SUM(W18:W28) -> 26 | X29: =ROUND(F29/C29*100,1) -> 98.2
A31: 西部教育事務所（芸北支所）
A32: 安芸高田市 | B32: 6 | C32: =SUM(D32:E32) -> 206 | D32: 123 | E32: 83 | F32: =SUM(G32:H32) -> 202 | G32: 120 | H32: 82 | I32: =SUM(J32:K32) -> 0 | J32: 0 | K32: 0 | L32: =SUM(M32:N32) -> 0 | M32: 0 | N32: 0 | O32: =SUM(P32:Q32) -> 0 | P32: 0 | Q32: 0 | R32: =SUM(S32:T32) -> 3 | S32: 2 | T32: 1 | U32: =SUM(V32:W32) -> 1 | V32: 1 | W32: 0 | X32: =ROUND(F32/C32*100,1) -> 98.1
A33: 安芸太田町 | B33: 2 | C33: =SUM(D33:E33) -> 28 | D33: 11 | E33: 17 | F33: =SUM(G33:H33) -> 27 | G33: 11 | H33: 16 | I33: =SUM(J33:K33) -> 0 | J33: 0 | K33: 0 | L33: =SUM(M33:N33) -> 0 | M33: 0 | N33: 0 | O33: =SUM(P33:Q33) -> 0 | P33: 0 | Q33: 0 | R33: =SUM(S33:T33) -> 0 | S33: 0 | T33: 0 | U33: =SUM(V33:W33) -> 1 | V33: 0 | W33: 1 | X33: =ROUND(F33/C33*100,1) -> 96.4
A34: 北広島町 | B34: 3 | C34: =SUM(D34:E34) -> 104 | D34: 50 | E34: 54 | F34: =SUM(G34:H34) -> 102 | G34: 48 | H34: 54 | I34: =SUM(J34:K34) -> 0 | J34: 0 | K34: 0 | L34: =SUM(M34:N34) -> 0 | M34: 0 | N34: 0 | O34: =SUM(P34:Q34) -> 0 | P34: 0 | Q34: 0 | R34: =SUM(S34:T34) -> 0 | S34: 0 | T34: 0 | U34: =SUM(V34:W34) -> 2 | V34: 2 | W34: 0 | X34: =ROUND(F34/C34*100,1) -> 98.1
A35: 計 | B35: =SUM(B32:B34) -> 11 | C35: =SUM(C32:C34) -> 338 | D35: =SUM(D32:D34) -> 184 | E35: =SUM(E32:E34) -> 154 | F35: =SUM(F32:F34) -> 331 | G35: =SUM(G32:G34) -> 179 | H35: =SUM(H32:H34) -> 152 | I35: =SUM(I32:I34) -> 0 | ... W35: =SUM(W32:W34) -> 1 | X35: =ROUND(F35/C35*100,1) -> 97.9
A37: 東部教育事務所
A38: 三原市 | B38: 10 | C38: =SUM(D38:E38) -> 680 | D38: 371 | E38: 309 | F38: =SUM(G38:H38) -> 675 | G38: 367 | H38: 308 | I38: =SUM(J38:K38) -> 0 | J38: 0 | K38: 0 | L38: =SUM(M38:N38) -> 0 | M38: 0 | N38: 0 | O38: =SUM(P38:Q38) -> 0 | P38: 0 | Q38: 0 | R38: =SUM(S38:T38) -> 2 | S38: 1 | T38: 1 | U38: =SUM(V38:W38) -> 3 | V38: 3 | W38: 0 | X38: =ROUND(F38/C38*100,1) -> 99.3
A39: 尾道市 | B39: 15 | C39: =SUM(D39:E39) -> 925 | D39: 506 | E39: 419 | F39: =SUM(G39:H39) -> 920 | G39: 503 | H39: 417 | I39: =SUM(J39:K39) -> 0 | J39: 0 | K39: 0 | L39: =SUM(M39:N39) -> 0 | M39: 0 | N39: 0 | O39: =SUM(P39:Q39) -> 0 | P39: 0 | Q39: 0 | R39: =SUM(S39:T39) -> 0 | S39: 0 | T39: 0 | U39: =SUM(V39:W39) -> 5 | V39: 3 | W39: 2 | X39: =ROUND(F39/C39*100,1) -> 99.5
A40: 府中市 | B40: 2 | C40: =SUM(D40:E40) -> 125 | D40: 65 | E40: 60 | F40: =SUM(G40:H40) -> 125 | G40: 65 | H40: 60 | I40: =SUM(J40:K40) -> 0 | J40: 0 | K40: 0 | L40: =SUM(M40:N40) -> 0 | M40: 0 | N40: 0 | O40: =SUM(P40:Q40) -> 0 | P40: 0 | Q40: 0 | R40: =SUM(S40:T40) -> 0 | S40: 0 | T40: 0 | U40: =SUM(V40:W40) -> 0 | V40: 0 | W40: 0 | X40: =ROUND(F40/C40*100,1) -> 100
A41: 世羅町 | B41: 3 | C41: =SUM(D41:E41) -> 126 | D41: 56 | E41: 70 | F41: =SUM(G41:H41) -> 124 | G41: 56 | H41: 68 | I41: =SUM(J41:K41) -> 0 | J41: 0 | K41: 0 | L41: =SUM(M41:N41) -> 0 | M41: 0 | N41: 0 | O41: =SUM(P41:Q41) -> 0 | P41: 0 | Q41: 0 | R41: =SUM(S41:T41) -> 0 | S41: 0 | T41: 0 | U41: =SUM(V41:W41) -> 2 | V41: 0 | W41: 2 | X41: =ROUND(F41/C41*100,1) -> 98.4
A42: 神石高原町 | B42: 2 | C42: =SUM(D42:E42) -> 59 | D42: 37 | E42: 22 | F42: =SUM(G42:H42) -> 59 | G42: 37 | H42: 22 | I42: =SUM(J42:K42) -> 0 | J42: 0 | K42: 0 | L42: =SUM(M42:N42) -> 0 | M42: 0 | N42: 0 | O42: =SUM(P42:Q42) -> 0 | P42: 0 | Q42: 0 | R42: =SUM(S42:T42) -> 0 | S42: 0 | T42: 0 | U42: =SUM(V42:W42) -> 0 | V42: 0 | W42: 0 | X42: =ROUND(F42/C42*100,1) -> 100
A43: 計 | B43: =SUM(B38:B42) -> 32 | C43: =SUM(C38:C42) -> 1915 | D43: =SUM(D38:D42) -> 1035 | E43: =SUM(E38:E42) -> 880 | F43: =SUM(F38:F42) -> 1903 | G43: =SUM(G38:G42) -> 1028 | H43: =SUM(H38:H42) -> 875 | I43: =SUM(I38:I42) -> 0 | ... W43: =SUM(W38:W42) -> 4 | X43: =ROUND(F43/C43*100,1) -> 99.4
A45: 北部教育事務所
A46: 三次市 | B46: 12 | C46: =SUM(D46:E46) -> 337 | D46: 199 | E46: 138 | F46: =SUM(G46:H46) -> 333 | G46: 197 | H46: 136 | I46: =SUM(J46:K46) -> 0 | J46: 0 | K46: 0 | L46: =SUM(M46:N46) -> 2 | M46: 0 | N46: 2 | O46: =SUM(P46:Q46) -> 0 | P46: 0 | Q46: 0 | R46: =SUM(S46:T46) -> 2 | S46: 2 | T46: 0 | U46: =SUM(V46:W46) -> 0 | V46: 0 | W46: 0 | X46: =ROUND(F46/C46*100,1) -> 98.8
A47: 庄原市 | B47: 7 | C47: =SUM(D47:E47) -> 243 | D47: 113 | E47: 130 | F47: =SUM(G47:H47) -> 237 | G47: 109 | H47: 128 | I47: =SUM(J47:K47) -> 0 | J47: 0 | K47: 0 | L47: =SUM(M47:N47) -> 0 | M47: 0 | N47: 0 | O47: =SUM(P47:Q47) -> 0 | P47: 0 | Q47: 0 | R47: =SUM(S47:T47) -> 3 | S47: 2 | T47: 1 | U47: =SUM(V47:W47) -> 3 | V47: 2 | W47: 1 | X47: =ROUND(F47/C47*100,1) -> 97.5
A48: 計 | B48: =SUM(B46:B47) -> 19 | C48: =SUM(C46:C47) -> 580 | D48: =SUM(D46:D47) -> 312 | E48: =SUM(E46:E47) -> 268 | F48: =SUM(F46:F47) -> 570 | G48: =SUM(G46:G47) -> 306 | H48: =SUM(H46:H47) -> 264 | I48: =SUM(I46:I47) -> 0 | ... W48: =SUM(W46:W47) -> 1 | X48: =ROUND(F48/C48*100,1) -> 98.3
A50: 公立の計 | B50: =SUM(B11,B14,B15,B29,B35,B43,B48) -> 223 | C50: =SUM(C11,C14,C15,C29,C35,C43,C48) -> 21918 | D50: =SUM(D11,D14,D15,D29,D35,D43,D48) -> 11322 | E50: =SUM(E11,E14,E15,E29,E35,E43,E48) -> 10596 | F50: =SUM(F11,F14,F15,F29,F35,F43,F48) -> 21592 | G50: =SUM(G11,G14,G15,G29,G35,G43,G48) -> 11138 | H50: =SUM(H11,H14,H15,H29,H35,H43,H48) -> 10454 | I50: =SUM(I11,I14,I15,I29,I35,I43,I48) -> 0 | ... W50: =SUM(W11,W14,W15,W29,W35,W43,W48) -> 74 | X50: =ROUND(F50/C50*100,1) -> 98.5
A51: 国立の計 | B51: 4 | C51: =SUM(D51:E51) -> 404 | D51: 194 | E51: 210 | F51: =SUM(G51:H51) -> 402 | G51: 192 | H51: 210 | I51: 0 | J51: 0 | K51: 0 | L51: =SUM(M51:N51) -> 1 | M51: 1 | N51: 0 | O51: =SUM(P51:Q51) -> 0 | P51: 0 | Q51: 0 | R51: =SUM(S51:T51) -> 0 | S51: 0 | T51: 0 | U51: =SUM(V51:W51) -> 1 | V51: 1 | W51: 0 | X51: =ROUND(F51/C51*100,1) -> 99.5
A52: 私立の計 | B52: 25 | C52: =SUM(D52:E52) -> 2556 | D52: 1282 | E52: 1274 | F52: =SUM(G52:H52) -> 2547 | G52: 1278 | H52: 1269 | I52: 0 | J52: 0 | K52: 0 | L52: =SUM(M52:N52) -> 1 | M52: 0 | N52: 1 | O52: =SUM(P52:Q52) -> 0 | P52: 0 | Q52: 0 | R52: =SUM(S52:T52) -> 2 | S52: 1 | T52: 1 | U52: =SUM(V52:W52) -> 6 | V52: 3 | W52: 3 | X52: =ROUND(F52/C52*100,1) -> 99.6
A54: 義務教育学校
A55: （後期課程）
A56: 05 | B56: 6 | C56: 288 | D56: 155 | E56: 133 | F56: 285 | G56: 153 | H56: 132 | I56: 0 | J56: 0 | K56: 0 | L56: 1 | M56: 1 | N56: 0 | O56: 0 | P56: 0 | Q56: 0 | R56: 1 | S56: 0 | T56: 1 | U56: 1 | V56: 1 | W56: 0 | X56: 99
A57: 06 | B57: 7 | C57: 280 | D57: 150 | E57: 130 | F57: 277 | G57: 147 | H57: 130 | I57: 0 | J57: 0 | K57: 0 | L57: 1 | M57: 1 | N57: 0 | O57: 0 | P57: 0 | Q57: 0 | R57: 0 | S57: 0 | T57: 0 | U57: 2 | V57: 2 | W57: 0 | X57: 98.9
A58: 07 | B58: 8 | C58: =SUM(D58:E58) -> 322 | D58: 146 | E58: 176 | F58: =SUM(G58:H58) -> 318 | G58: 144 | H58: 174 | I58: =SUM(J58:K58) -> 0 | J58: 0 | K58: 0 | L58: =SUM(M58:N58) -> 2 | M58: 1 | N58: 1 | O58: =SUM(P58:Q58) -> 0 | P58: 0 | Q58: 0 | R58: =SUM(S58:T58) -> 0 | S58: 0 | T58: 0 | U58: =SUM(V58:W58) -> 2 | V58: 1 | W58: 1 | X58: =ROUND(F58/C58*100,1) -> 98.8
A60: 中等教育学校
A61: （前期課程）
A62: 05 | B62: 1 | C62: 116 | D62: 37 | E62: 79 | F62: 115 | G62: 36 | H62: 79 | I62: 0 | J62: 0 | K62: 0 | L62: 0 | M62: 0 | N62: 0 | O62: 0 | P62: 0 | Q62: 0 | R62: 0 | S62: 0 | T62: 0 | U62: 1 | V62: 1 | W62: 0 | X62: 99.1
A63: 06 | B63: 1 | C63: 115 | D63: 46 | E63: 69 | F63: 115 | G63: 46 | H63: 69 | I63: 0 | J63: 0 | K63: 0 | L63: 0 | M63: 0 | N63: 0 | O63: 0 | P63: 0 | Q63: 0 | R63: 0 | S63: 0 | T63: 0 | U63: 0 | V63: 0 | W63: 0 | X63: 100
A64: 07 | B64: 1 | C64: =SUM(D64:E64) -> 118 | D64: 58 | E64: 60 | F64: =SUM(G64:H64) -> 118 | G64: 58 | H64: 60 | I64: =SUM(J64:K64) -> 0 | J64: 0 | K64: 0 | L64: =SUM(M64:N64) -> 0 | M64: 0 | N64: 0 | O64: =SUM(P64:Q64) -> 0 | P64: 0 | Q64: 0 | R64: =SUM(S64:T64) -> 0 | S64: 0 | T64: 0 | U64: =SUM(V64:W64) -> 0 | V64: 0 | W64: 0 | X64: =ROUND(F64/C64*100,1) -> 100
A65: 注：学校数は、休校数を除く（公立2校、私立4校）。
A66: 注：進学率は、小数第２位を四捨五入して算出している。
