Workbook
Name COL_事業量: 設計書!$E$5
Name COL_詳細情報: 設計書!$C$5
Name COL_単位: 設計書!$F$5
Name COL_塗装情報: 所属別事業量一覧表!$E$8
Name COL_塗装情報: 設計書!$D$5
Name COL_発注分類: 所属別事業量一覧表!$A$8
Name COL_発注分類: 設計書!$A$5
Name COL_幅員: 設計書!$B$5
Name COUNT_SUM: 所属別事業量一覧表!$F$11
Name EditCol: 場所表_安芸高田_更新!$G$3:$G$7
Name EditCol: 場所表_安芸高田_新規!#REF!
Name EditCol: 場所表_更新!$G$3:$G$7
Name EditCol: 場所表_新規!$H$3:$H$7
Name EditRow: 場所表_安芸高田_更新!$A$6:$I$6
Name EditRow: 場所表_安芸高田_新規!$B$6:$J$6
Name EditRow: 場所表_更新!$A$6:$I$6
Name EditRow: 場所表_新規!$A$6:$J$6
Name EndCol: 場所表_安芸高田_更新!$H$3:$H$7
Name EndCol: 場所表_安芸高田_新規!$I$3:$I$10
Name EndCol: 場所表_更新!$H$3:$H$7
Name EndCol: 場所表_新規!$I$3:$I$7
Name EndRow: 場所表_安芸高田_更新!$A$7:$I$7
Name EndRow: 場所表_安芸高田_新規!$B$10:$J$10
Name EndRow: 場所表_更新!$A$7:$I$7
Name EndRow: 場所表_新規!$A$7:$J$7
Name INSERT_START: 所属別事業量一覧表!$9:$9
Name INSERT_START: 設計書!#REF!
Name PS_1: 所属別事業量一覧表!$BJ$6
Name PS_10: 所属別事業量一覧表!$V$6
Name PS_11: 所属別事業量一覧表!$X$6
Name PS_12: 所属別事業量一覧表!$AL$6
Name PS_13: 所属別事業量一覧表!$AD$6
Name PS_14: 所属別事業量一覧表!$AJ$6
Name PS_15: 所属別事業量一覧表!$BL$6
Name PS_16: 所属別事業量一覧表!$P$6
Name PS_17: 所属別事業量一覧表!$BF$6
Name PS_18: 所属別事業量一覧表!$Z$6
Name PS_19: 所属別事業量一覧表!$AT$6
Name PS_2: 所属別事業量一覧表!$BN$6
Name PS_20: 所属別事業量一覧表!$AV$6
Name PS_21: 所属別事業量一覧表!$AX$6
Name PS_22: 所属別事業量一覧表!$AP$6
Name PS_23: 所属別事業量一覧表!$AN$6
Name PS_24: 所属別事業量一覧表!$AZ$6
Name PS_25: 所属別事業量一覧表!$BD$6
Name PS_26: 所属別事業量一覧表!$BB$6
Name PS_27: 所属別事業量一覧表!$BH$6
Name PS_28: 所属別事業量一覧表!$N$6
Name PS_29: 所属別事業量一覧表!$J$6
Name PS_3: 所属別事業量一覧表!$H$6
Name PS_30: 所属別事業量一覧表!$AR$6
Name PS_31: 所属別事業量一覧表!$R$6
Name PS_4: 所属別事業量一覧表!$F$6
Name PS_5: 所属別事業量一覧表!$L$6
Name PS_6: 所属別事業量一覧表!$AB$6
Name PS_7: 所属別事業量一覧表!$AF$6
Name PS_8: 所属別事業量一覧表!$AH$6
Name PS_9: 所属別事業量一覧表!$T$6
Name StartCol: 場所表_安芸高田_更新!$F$3:$F$7
Name StartCol: 場所表_安芸高田_新規!$H$3:$H$10

Sheet 表紙等_署用
H1: =IF(工事番号="","№ ","№ " & 工事番号) -> № 8-31 | J1: 工事番号 | K1: 8-31
A2: 署長 | B2: 副署長・次長 | C2: 交通官 | D2: 課長 | E2: 係長 | F2: 主任 | G2: =年月 -> 令和 8 年 8 月 | J2: 年月 | K2: 令和 8 年 8 月
G3: 監督職員 設 計
A12: 工 事 設 計 書
A22: 工事名称 | C22: 安芸高田市高宮町佐々部ほか道路標示工事
A28: 工事場所 | C28: 安芸高田市高宮町佐々部471番地先から同町佐々部1,040番地8先までの間
G30: =IF(OR(工事場所箇所数=0,工事場所箇所数=1),"","ほか " & 工事場所箇所数 -1 &" か所")
A33: 工事期間 | C33: 契約日の翌日から令和9年2月26日までの間
A37: 監督職員 | C37: 高山 航輝
A40: 検 査 員 | C40: 大塚 真二
A46: 安芸高田警察署
A56: 本工事は下記のとおりとする。
A57: ○ 工事種別
A58: 塗装工
A59: ○ 工事内容
A60: 別添のとおり
A61: ○ 特記事項
A62: 1 道路標示工事仕様書に従い、正確に施工すること。 2 交通誘導は交通規制区間内で行い、安全に配意すること。
A63: 記
A64: １ 工事場所
A65: 別添工事場所表のとおり
A66: ２ 工事費
A67: 別添工事設計表のとおり
A68: 金 | B68: =設計書!合計 -> 0

Sheet 表紙等_本部
I1: =表紙等_署用!H1 -> № 8-31
A2: 本部長 | B2: 主務部長 | C2: 主務課長 | D2: 次 席 | E2: 課長補佐 | F2: 係 長 | G2: 主 任 | H2: =表紙等_署用!G2 -> 令和 8 年 8 月
H3: 監督職員 設 計
A12: 工 事 設 計 書
A22: 工事名称 | C22: =表紙等_署用!工事名称 -> 安芸高田市高宮町佐々部ほか道路標示工事
A28: 工事場所 | C28: =表紙等_署用!工事場所 -> 安芸高田市高宮町佐々部471番地先から同町佐々部1,040番地8先までの間
H30: =表紙等_署用!G30
A33: 工事期間 | C33: =表紙等_署用!工事期間 -> 契約日の翌日から令和9年2月26日までの間
A37: 監督職員 | C37: =表紙等_署用!監督員 -> 高山 航輝
A40: 検 査 員 | C40: =表紙等_署用!検査員 -> 大塚 真二
A46: 広 島 県 警 察 本 部
A56: 本工事は下記のとおりとする。
A57: ○ 工事種別
A58: =表紙等_署用!工事種別 -> 塗装工
A59: ○ 工事内容
A60: =表紙等_署用!工事内容 -> 別添のとおり
A61: ○ 特記事項
A62: =表紙等_署用!特記事項 -> 1 道路標示工事仕様書に従い、正確に施工すること。 2 交通誘導は交通規制区間内で行い、安全に配意すること。
A63: 記
A64: １ 工事場所
A65: 別添工事場所表のとおり
A66: ２ 工事費
A67: 別添工事設計表のとおり
A68: 金 | B68: =表紙等_署用!工事費 -> 0

Sheet 設計書
A1: 道 路 標 示 工 事 設 計 書
H2: ="("&表紙等_署用!H1&")" -> (№ 8-31)
H3: 交 通 規 制 課
A5: 発注分類 | B5: 幅 | C5: 詳細設定 | D5: 塗装種類 | E5: 事業量 | F5: 単位 | G5: 単価（円） | H5: 金額（円） | I5: 小計
A6: 実線１５㎝幅 | B6: 15 | D6: 溶融式（白） | E6: 3080 | F6: m
A7: 削除 | E7: 5450 | F7: m
A8: 小 計 | H8: =ROUNDUP(SUM(H6:H7),0) -> 0 | I8: =SUM(I7:I7) -> 0
A9: 交 通 誘 導 員 ( 労 務 費 ） | D9: 交通整理員Ａ | F9: 人 | H9: =E9*G9 -> 0
D10: 交通整理員Ａ（夜間） | F10: 人 | H10: =E10*G10 -> 0
D11: 交通整理員Ｂ | E11: 44 | F11: 人
D12: 交通整理員Ｂ（夜間） | F12: 人 | H12: =E12*G12 -> 0
A13: 小 計 | H13: =SUM(H9:H12) -> 0 | I13: =SUM(H9:H12) -> 0
B14: 共 通 仮 設 費 | H14: =ROUNDDOWN((H8+H13)*M14/100,-3) -> 0
B15: 現 場 管 理 費 | H15: =ROUNDDOWN((H8+H14+H13)*$M15/100,-3) -> 0
B16: 一 般 管 理 費 | H16: =J16-M17 -> 0
A17: 計 | H17: =SUM(H8,H13:H16) -> 0
A18: 消 費 税 相 当 分 | H18: =H17*0.1 -> 0
A19: 合 計 | H19: =SUM(H17:H18) -> 0

Sheet 所属別事業量一覧表
A1: 所 属 別 事 業 量 一 覧 表
BQ2: ="("&表紙等_署用!$H$1&")" -> (№ 8-31)
BQ3: 交 通 規 制 課
F5: 工事量
F6: 広島中央 | H6: 広島東 | J6: 広島西 | L6: 広島南 | N6: 安佐南 | P6: 安佐北 | R6: 佐伯 | T6: 海田 | V6: 廿日市 | X6: 大竹 | Z6: 山県 | AB6: 呉 | AD6: 広 | AF6: 音戸 | AH6: 江田島 | AJ6: 東広島 | AL6: 竹原 | AN6: 福山東 | AP6: 福山西 | AR6: 福山北 | AT6: 尾道 | AV6: 因島 | AX6: 三原 | AZ6: 府中 | BB6: 三次 | BD6: 庄原 | BF6: 安芸高田 | BH6: 世羅 | BJ6: 高速隊 | BL6: 木江 | BN6: 機動隊 | BP6: 計
A7: 箇所数 | F7: =BU14 -> 0 | H7: =BU15 -> 0 | J7: =BU16 -> 0 | L7: =BU17 -> 0 | N7: =BU18 -> 0 | P7: =BU29 -> 0 | R7: =BU44 -> 0 | T7: =BU22 -> 0 | V7: =BU23 -> 0 | X7: =BU24 -> 0 | Z7: =BU31 -> 0 | AB7: =BU19 -> 0 | AD7: =BU26 -> 0 | AF7: =BU20 -> 0 | AH7: =BU21 -> 0 | AJ7: =BU27 -> 0 | AL7: =BU25 -> 0 | AN7: =BU36 -> 0 | AP7: =BU35 -> 0 | AR7: =BU37 -> 0 | AT7: =BU32 -> 0 | AV7: =BU33 -> 0 | AX7: =BU34 -> 0 | AZ7: =BU38 -> 0 | BB7: =BU40 -> 0 | BD7: =BU39 -> 0 | BF7: =BU30 -> 0 | BH7: =BU41 -> 0 | BJ7: =BU42 -> 0 | BL7: =BU28 -> 0 | BN7: =BU43 -> 0 | BP7: =SUM(F7:BO7) -> 0
A8: 発注分類 | B8: 幅 | C8: 標示種類 | D8: 詳細設定 | E8: 塗装種類 | F8: 個数 | G8: 施工長 | H8: 個数 | I8: 施工長 | J8: 個数 | K8: 施工長 | L8: 個数 | M8: 施工長 | N8: 個数 | O8: 施工長 | P8: 個数 | Q8: 施工長 | R8: 個数 | S8: 施工長 | T8: 個数 | U8: 施工長 | V8: 個数 | W8: 施工長 | X8: 個数 | Y8: 施工長 | Z8: 個数 | AA8: 施工長 | AB8: 個数 | AC8: 施工長 | AD8: 個数 | AE8: 施工長 | AF8: 個数 | AG8: 施工長 | AH8: 個数 | AI8: 施工長 | AJ8: 個数 | AK8: 施工長 | AL8: 個数 | AM8: 施工長 | AN8: 個数 | AO8: 施工長 | AP8: 個数 | AQ8: 施工長 | AR8: 個数 | AS8: 施工長 | AT8: 個数 | AU8: 施工長 | AV8: 個数 | AW8: 施工長 | AX8: 個数 | AY8: 施工長 | AZ8: 個数 | BA8: 施工長 | BB8: 個数 | BC8: 施工長 | BD8: 個数 | BE8: 施工長 | BF8: 個数 | BG8: 施工長 | BH8: 個数 | BI8: 施工長 | BJ8: 個数 | BK8: 施工長 | BL8: 個数 | BM8: 施工長 | BN8: 個数 | BO8: 施工長 | BP8: 個数 | BQ8: 施工長
A9: 実線１５㎝幅 | E9: 溶融式（白） | BF9: 2 | BG9: 3080 | BP9: =SUMIF(F$8:BO$8,"個数",F9:BO9) -> 2 | BQ9: =SUMIF(F$8:BO$8,"施工長",F9:BO9) -> 3080
A10: 削除 | BF10: 4 | BG10: 5450 | BP10: =SUMIF(F$8:BO$8,"個数",F10:BO10) -> 4 | BQ10: =SUMIF(F$8:BO$8,"施工長",F10:BO10) -> 5450
E11: 計 | F11: =SUM(F9:F10) -> 0 | G11: =SUM(G9:G10) -> 0 | H11: =SUM(H9:H10) -> 0 | I11: =SUM(I9:I10) -> 0 | J11: =SUM(J9:J10) -> 0 | K11: =SUM(K9:K10) -> 0 | L11: =SUM(L9:L10) -> 0 | M11: =SUM(M9:M10) -> 0 | ... BO11: =SUM(BO9:BO10) -> 0 | BP11: =SUMIF(F$8:BO$8,"個数",F11:BO11) -> 6 | BQ11: =SUMIF(F$8:BO$8,"施工長",F11:BO11) -> 8530

Sheet 場所表_新規
A1: 新規 | C1: ="("&表紙等_署用!H1&")" -> (№ 8-31) | J1: 凸凹 | K1: 文字の折り返しで行高さがおかしくならないように、最終的な出力セルより幅を大きくしてあります。
A2: 整理番号 （規制番号） | B2: 区分 | C2: 道路種別 | D2: 場所・区間 | E2: 標示種別 | G2: 事業量 | K2: 整理番号 （規制番号） | L2: 道路種別 | M2: 場所・区間
E3: 横断歩道本数 記号文字個数 | F3: 数 | J3: 備考(縞数、方向等)
A5: =K5 -> 0 | B5: =IF(A5="〃","〃","新規") -> 新規 | C5: =L5 -> 0 | D5: =M5 -> 0 | N5: =ASC(J5)
A6: =IF(OFFSET(K6,-1,)=K6,"〃",K6) -> 〃 | B6: =IF(A6="〃","〃","新規") -> 〃 | C6: =IF(OFFSET(L6,-1,)=L6,"〃",L6) -> 〃 | D6: =IF(OFFSET(M6,-1,)=M6,"〃",M6) -> 〃 | N6: =ASC(J6)
A7: =IF(OFFSET(K7,-1,)=K7,"〃",K7) -> 〃 | B7: =IF(A7="〃","〃","新規") -> 〃 | C7: =IF(OFFSET(L7,-1,)=L7,"〃",L7) -> 〃 | D7: =IF(OFFSET(M7,-1,)=M7,"〃",M7) -> 〃 | N7: =ASC(J7)
A8: =警察署名 -> 凸凹 | D8: 新規合計 | G8: =IF(ISERROR(FIND("図示", G3)), IF(ISERROR(FIND("削除", G3)), SUMPRODUCT((ISNUMBER(FIND("横断歩道 実線",$E5:$E7)))*(G5:G7<>""), $F5:$F7), 0), SUMIF(G5:G7,">0",$F5:$F7)) -> 0 | H8: =IF(ISERROR(FIND("図示", H3)), IF(ISERROR(FIND("削除", H3)), SUMPRODUCT((ISNUMBER(FIND("横断歩道 実線",$E5:$E7)))*(H5:H7<>""), $F5:$F7), 0), SUMIF(H5:H7,">0",$F5:$F7)) -> 0 | I8: =IF(ISERROR(FIND("図示", I3)), IF(ISERROR(FIND("削除", I3)), SUMPRODUCT((ISNUMBER(FIND("横断歩道 実線",$E5:$E7)))*(I5:I7<>""), $F5:$F7), 0), SUMIF(I5:I7,">0",$F5:$F7)) -> 0
G9: =SUM(G5:G7) -> 0 | H9: =SUM(H5:H7) -> 0 | I9: =SUM(I5:I7) -> 0

Sheet 場所表_更新
A1: 更新 | B1: ="("&表紙等_署用!H1&")" -> (№ 8-31) | I1: 凸凹 | J1: 文字の折り返しで行高さがおかしくならないように、最終的な出力セルより幅を大きくしてあります。
A2: 規制番号 | B2: 道路種別 | C2: 場所・区間 | D2: 標示種別 | F2: 事業量 | J2: 規制番号 | K2: 道路種別 | L2: 場所・区間
D3: 横断歩道本数 記号文字個数 | E3: 数 | I3: 備考(縞数、方向等)
A5: =J5 -> 0 | B5: =K5 -> 0 | C5: =L5 -> 0 | M5: =ASC(I5)
A6: =IF(OFFSET(J6,-1,)=J6,"〃",J6) -> 〃 | B6: =IF(OFFSET(K6,-1,)=K6,"〃",K6) -> 〃 | C6: =IF(OFFSET(L6,-1,)=L6,"〃",L6) -> 〃 | M6: =ASC(I6)
A7: =IF(OFFSET(J7,-1,)=J7,"〃",J7) -> 〃 | B7: =IF(OFFSET(K7,-1,)=K7,"〃",K7) -> 〃 | C7: =IF(OFFSET(L7,-1,)=L7,"〃",L7) -> 〃 | M7: =ASC(I7)
A8: =警察署名 -> 凸凹 | C8: 更新合計 | F8: =IF(ISERROR(FIND("図示", F3)), IF(ISERROR(FIND("削除", F3)), SUMPRODUCT((ISNUMBER(FIND("横断歩道 実線",$D5:$D7)))*(F5:F7<>""), $E5:$E7), 0), SUMIF(F5:F7,">0",$E5:$E7)) -> 0 | G8: =IF(ISERROR(FIND("図示", G3)), IF(ISERROR(FIND("削除", G3)), SUMPRODUCT((ISNUMBER(FIND("横断歩道 実線",$D5:$D7)))*(G5:G7<>""), $E5:$E7), 0), SUMIF(G5:G7,">0",$E5:$E7)) -> 0 | H8: =IF(ISERROR(FIND("図示", H3)), IF(ISERROR(FIND("削除", H3)), SUMPRODUCT((ISNUMBER(FIND("横断歩道 実線",$D5:$D7)))*(H5:H7<>""), $E5:$E7), 0), SUMIF(H5:H7,">0",$E5:$E7)) -> 0
F9: =SUM(F5:F7) -> 0 | G9: =SUM(G5:G7) -> 0 | H9: =SUM(H5:H7) -> 0
A10: =警察署名 -> 凸凹 | C10: 新規更新合計 | D10: =場所表_新規!新規合計+更新合計 -> 0 | F10: =場所表_新規!G8+場所表_更新!F8 -> 0 | G10: =場所表_新規!H8+場所表_更新!G8 -> 0 | H10: =場所表_新規!I8+場所表_更新!H8 -> 0
F11: =場所表_新規!G9+場所表_更新!F9 -> 0 | G11: =場所表_新規!H9+場所表_更新!G9 -> 0 | H11: =場所表_新規!I9+場所表_更新!H9 -> 0

Sheet 場所表_安芸高田_新規
B1: 新規 | D1: ="("&表紙等_署用!H1&")" -> (№ 8-31) | J1: 安芸高田 | K1: 文字の折り返しで行高さがおかしくならないように、最終的な出力セルより幅を大きくしてあります。
B2: 整理番号 （規制番号） | C2: 区分 | D2: 道路種別 | E2: 場所・区間 | F2: 標示種別 | H2: 事業量 | K2: 整理番号 （規制番号） | L2: 道路種別 | M2: 場所・区間
F3: 横断歩道本数 記号文字個数 | G3: 数 | H3: 実線１５㎝幅 | I3: 削除 | J3: 備考(縞数、方向等)
H4: m | I4: m
A5: 1 | B5: =K5 -> 261150007_x000D_ (第9-6の9-0005) | C5: =IF(B5="〃","〃","新規") -> 新規 | D5: =L5 -> 国道433号 | E5: =M5 -> 安芸高田市高宮町佐々部471番地先から同町佐々部1,040番地8先までの間 | F5: (削)はみ出し通行禁止 実線（黄） | G5: 1 | I5: 2700 | J5: 全区間廃止、削除（消えかけている箇所もあり） | K5: 261150007_x000D_ (第9-6の9-0005) | L5: 国道433号 | M5: 安芸高田市高宮町佐々部471番地先から同町佐々部1,040番地8先までの間 | N5: =ASC(J5) -> 全区間廃止､削除(消えかけている箇所もあり)
A6: =IF(E5="","",IF(E6="〃",A5,A5+1)) -> 1 | B6: =IF(OFFSET(K6,-1,)=K6,"〃",K6) -> 261150007 | C6: =IF(B6="〃","〃","新規") -> 新規 | D6: =IF(OFFSET(L6,-1,)=L6,"〃",L6) -> 〃 | E6: =IF(OFFSET(M6,-1,)=M6,"〃",M6) -> 〃 | F6: その他 線 | G6: 1 | H6: 1705 | J6: 破線5m間隔､実線箇所が２箇所あり 署担当者要確認 | K6: 261150007 | L6: 国道433号 | M6: 安芸高田市高宮町佐々部471番地先から同町佐々部1,040番地8先までの間 | N6: =ASC(J6) -> 破線5m間隔､実線箇所が2箇所あり 署担当者要確認
A7: =IF(E6="","",IF(E7="〃",A6,A6+1)) -> 2 | B7: =IF(OFFSET(K7,-1,)=K7,"〃",K7) -> 261150012_x000D_ (第9-36-0015) | C7: =IF(B7="〃","〃","新規") -> 新規 | D7: =IF(OFFSET(L7,-1,)=L7,"〃",L7) -> 県道(吉田邑南線) | E7: =IF(OFFSET(M7,-1,)=M7,"〃",M7) -> 安芸高田市美土里町生田2,958番地1北西方250メートル先から同町生田2,007番地先（旧生桑小学校前）までの間 | F7: (削)はみ出し通行禁止 実線（黄） | G7: 1 | I7: 820 | J7: 詳細箇所 署担当者へ確認 | K7: 261150012_x000D_ (第9-36-0015) | L7: 県道(吉田邑南線) | M7: 安芸高田市美土里町生田2,958番地1北西方250メートル先から同町生田2,007番地先（旧生桑小学校前）までの間 | N7: =ASC(J7) -> 詳細箇所 署担当者へ確認
A8: =IF(E7="","",IF(E8="〃",A7,A7+1)) -> 3 | B8: =IF(OFFSET(K8,-1,)=K8,"〃",K8) -> 261150012 | C8: =IF(B8="〃","〃","新規") -> 新規 | D8: =IF(OFFSET(L8,-1,)=L8,"〃",L8) -> 〃 | E8: =IF(OFFSET(M8,-1,)=M8,"〃",M8) -> 安芸高田市美土里町生田2,958番地1北西方250メートル先から同町北5,038番地先までの間 | F8: その他 線 | G8: 1 | H8: 1375 | J8: 破線 | K8: 261150012 | L8: 県道(吉田邑南線) | M8: 安芸高田市美土里町生田2,958番地1北西方250メートル先から同町北5,038番地先までの間 | N8: =ASC(J8) -> 破線
A9: =IF(E8="","",IF(E9="〃",A8,A8+1)) -> 4 | B9: =IF(OFFSET(K9,-1,)=K9,"〃",K9) -> 261150012_x000D_ (第9-6の9-0003) | C9: =IF(B9="〃","〃","新規") -> 新規 | D9: =IF(OFFSET(L9,-1,)=L9,"〃",L9) -> 国道433号 | E9: =IF(OFFSET(M9,-1,)=M9,"〃",M9) -> 安芸高田市美土里町北322番地北西方50メートル先から同町生田2,958番地1北西方250メートル先までの間 | F9: (削)はみ出し通行禁止 実線（黄） | G9: 1 | I9: 1300 | J9: 詳細箇所 署担当者へ確認 | K9: 261150012_x000D_ (第9-6の9-0003) | L9: 国道433号 | M9: 安芸高田市美土里町北322番地北西方50メートル先から同町生田2,958番地1北西方250メートル先までの間 | N9: =ASC(J9) -> 詳細箇所 署担当者へ確認
A10: =IF(E9="","",IF(E10="〃",A9,A9+1)) -> 5 | B10: =IF(OFFSET(K10,-1,)=K10,"〃",K10) -> 261150012_x000D_ (第9-36-0014) | C10: =IF(B10="〃","〃","新規") -> 新規 | D10: =IF(OFFSET(L10,-1,)=L10,"〃",L10) -> 県道(吉田邑南線) | E10: =IF(OFFSET(M10,-1,)=M10,"〃",M10) -> 安芸高田市美土里町北5,038番地先から同町北322番地北西方50メートル先までの間 | F10: (削)はみ出し通行禁止 実線（黄） | G10: 1 | I10: 630 | J10: 詳細箇所 署担当者へ確認 | K10: 261150012_x000D_ (第9-36-0014) | L10: 県道(吉田邑南線) | M10: 安芸高田市美土里町北5,038番地先から同町北322番地北西方50メートル先までの間 | N10: =ASC(J10) -> 詳細箇所 署担当者へ確認
B11: =警察署名 -> 安芸高田 | E11: 新規合計 | F11: 5 | H11: =IF(ISERROR(FIND("図示", H3)), IF(ISERROR(FIND("削除", H3)), SUMPRODUCT((ISNUMBER(FIND("横断歩道 実線",$F5:$F10)))*(H5:H10<>""), $G5:$G10), 0), SUMIF(H5:H10,">0",$G5:$G10)) -> 0 | I11: =IF(ISERROR(FIND("図示", I3)), IF(ISERROR(FIND("削除", I3)), SUMPRODUCT((ISNUMBER(FIND("横断歩道 実線",$F5:$F10)))*(I5:I10<>""), $G5:$G10), 0), SUMIF(I5:I10,">0",$G5:$G10)) -> 0
H12: =SUM(H5:H10) -> 3080 | I12: =SUM(I5:I10) -> 5450

Sheet 場所表_安芸高田_更新
A1: 更新 | B1: ="("&表紙等_署用!H1&")" -> (№ 8-31) | I1: 凸凹 | J1: 文字の折り返しで行高さがおかしくならないように、最終的な出力セルより幅を大きくしてあります。
A2: 規制番号 | B2: 道路種別 | C2: 場所・区間 | D2: 標示種別 | F2: 事業量 | J2: 規制番号 | K2: 道路種別 | L2: 場所・区間
D3: 横断歩道本数 記号文字個数 | E3: 数 | I3: 備考(縞数、方向等)
A5: =J5 -> 0 | B5: =K5 -> 0 | C5: =L5 -> 0 | M5: =ASC(I5)
A6: =IF(OFFSET(J6,-1,)=J6,"〃",J6) -> 〃 | B6: =IF(OFFSET(K6,-1,)=K6,"〃",K6) -> 〃 | C6: =IF(OFFSET(L6,-1,)=L6,"〃",L6) -> 〃 | M6: =ASC(I6)
A7: =IF(OFFSET(J7,-1,)=J7,"〃",J7) -> 〃 | B7: =IF(OFFSET(K7,-1,)=K7,"〃",K7) -> 〃 | C7: =IF(OFFSET(L7,-1,)=L7,"〃",L7) -> 〃 | M7: =ASC(I7)
A8: =警察署名 -> 凸凹 | C8: 更新合計 | D8: 0 | F8: =IF(ISERROR(FIND("図示", F3)), IF(ISERROR(FIND("削除", F3)), SUMPRODUCT((ISNUMBER(FIND("横断歩道 実線",$D5:$D7)))*(F5:F7<>""), $E5:$E7), 0), SUMIF(F5:F7,">0",$E5:$E7)) -> 0 | G8: =IF(ISERROR(FIND("図示", G3)), IF(ISERROR(FIND("削除", G3)), SUMPRODUCT((ISNUMBER(FIND("横断歩道 実線",$D5:$D7)))*(G5:G7<>""), $E5:$E7), 0), SUMIF(G5:G7,">0",$E5:$E7)) -> 0 | H8: =IF(ISERROR(FIND("図示", H3)), IF(ISERROR(FIND("削除", H3)), SUMPRODUCT((ISNUMBER(FIND("横断歩道 実線",$D5:$D7)))*(H5:H7<>""), $E5:$E7), 0), SUMIF(H5:H7,">0",$E5:$E7)) -> 0
F9: =SUM(F5:F7) -> 0 | G9: =SUM(G5:G7) -> 0 | H9: =SUM(H5:H7) -> 0
A10: =警察署名 -> 凸凹 | C10: 新規更新合計 | D10: =場所表_安芸高田_新規!新規合計+更新合計 -> 5 | F10: =場所表_新規!G8+場所表_安芸高田_更新!F8 -> 0 | G10: =場所表_新規!H8+場所表_安芸高田_更新!G8 -> 0 | H10: =場所表_新規!I8+場所表_安芸高田_更新!H8 -> 0
F11: =場所表_新規!G9+場所表_安芸高田_更新!F9 -> 0 | G11: =場所表_新規!H9+場所表_安芸高田_更新!G9 -> 0 | H11: =場所表_新規!I9+場所表_安芸高田_更新!H9 -> 0
